BEGIN:VCALENDAR
VERSION:2.0
PRODID:-//EHBO Zundert - ECPv6.15.20//NONSGML v1.0//EN
CALSCALE:GREGORIAN
METHOD:PUBLISH
X-ORIGINAL-URL:https://ehbo-zundert.nl
X-WR-CALDESC:Evenementen voor EHBO Zundert
REFRESH-INTERVAL;VALUE=DURATION:PT1H
X-Robots-Tag:noindex
X-PUBLISHED-TTL:PT1H
BEGIN:VTIMEZONE
TZID:Europe/Amsterdam
BEGIN:DAYLIGHT
TZOFFSETFROM:+0100
TZOFFSETTO:+0200
TZNAME:CEST
DTSTART:20180325T010000
END:DAYLIGHT
BEGIN:STANDARD
TZOFFSETFROM:+0200
TZOFFSETTO:+0100
TZNAME:CET
DTSTART:20181028T010000
END:STANDARD
BEGIN:DAYLIGHT
TZOFFSETFROM:+0100
TZOFFSETTO:+0200
TZNAME:CEST
DTSTART:20190331T010000
END:DAYLIGHT
BEGIN:STANDARD
TZOFFSETFROM:+0200
TZOFFSETTO:+0100
TZNAME:CET
DTSTART:20191027T010000
END:STANDARD
BEGIN:DAYLIGHT
TZOFFSETFROM:+0100
TZOFFSETTO:+0200
TZNAME:CEST
DTSTART:20200329T010000
END:DAYLIGHT
BEGIN:STANDARD
TZOFFSETFROM:+0200
TZOFFSETTO:+0100
TZNAME:CET
DTSTART:20201025T010000
END:STANDARD
END:VTIMEZONE
BEGIN:VTIMEZONE
TZID:UTC
BEGIN:STANDARD
TZOFFSETFROM:+0000
TZOFFSETTO:+0000
TZNAME:UTC
DTSTART:20180101T000000
END:STANDARD
END:VTIMEZONE
BEGIN:VEVENT
DTSTART;TZID=Europe/Amsterdam:20190721T100000
DTEND;TZID=Europe/Amsterdam:20190721T140000
DTSTAMP:20260425T135857
CREATED:20190428T102612Z
LAST-MODIFIED:20190428T102612Z
UID:4481-1563703200-1563717600@ehbo-zundert.nl
SUMMARY:Jaarmarkt Sint Jan
DESCRIPTION:
URL:https://ehbo-zundert.nl/evenement/jaarmarkt-sint-jan/
LOCATION:Café de Valk\, Wernhoutseweg\, Wernhout
END:VEVENT
BEGIN:VEVENT
DTSTART;TZID=UTC:20190719T123000
DTEND;TZID=UTC:20190719T160000
DTSTAMP:20260425T135857
CREATED:20190122T174937Z
LAST-MODIFIED:20190122T174937Z
UID:4151-1563539400-1563552000@ehbo-zundert.nl
SUMMARY:Vakantieweek bij 't Stokpérdje
DESCRIPTION:Vele activiteiten voor kinderen van 4 tot en met 12 jaar
URL:https://ehbo-zundert.nl/evenement/vakantieweek-bij-t-stokperdje-8/
LOCATION:Stokperdje\, De Brug 15\, Zundert\, 4881 BH
ORGANIZER;CN="Rik Dockx":MAILTO:vakantieweek@stokperdje.nl
END:VEVENT
BEGIN:VEVENT
DTSTART;TZID=UTC:20190719T090000
DTEND;TZID=UTC:20190719T123000
DTSTAMP:20260425T135857
CREATED:20190122T174748Z
LAST-MODIFIED:20190122T174748Z
UID:4149-1563526800-1563539400@ehbo-zundert.nl
SUMMARY:Vakantieweek bij 't Stokpérdje
DESCRIPTION:Vele activiteiten voor kinderen van 4 tot en met 12 jaar
URL:https://ehbo-zundert.nl/evenement/vakantieweek-bij-t-stokperdje-7/
LOCATION:Stokperdje\, De Brug 15\, Zundert\, 4881 BH
ORGANIZER;CN="Rik Dockx":MAILTO:vakantieweek@stokperdje.nl
END:VEVENT
BEGIN:VEVENT
DTSTART;TZID=UTC:20190718T123000
DTEND;TZID=UTC:20190718T160000
DTSTAMP:20260425T135857
CREATED:20190122T174623Z
LAST-MODIFIED:20190122T174623Z
UID:4147-1563453000-1563465600@ehbo-zundert.nl
SUMMARY:Vakantieweek bij 't Stokperdje
DESCRIPTION:Vele activiteiten voor kinderen van 4 tot en met 12 jaar
URL:https://ehbo-zundert.nl/evenement/vakantieweek-bij-t-stokperdje-6/
LOCATION:Stokperdje\, De Brug 15\, Zundert\, 4881 BH
ORGANIZER;CN="Rik Dockx":MAILTO:vakantieweek@stokperdje.nl
END:VEVENT
BEGIN:VEVENT
DTSTART;TZID=UTC:20190718T090000
DTEND;TZID=UTC:20190718T123000
DTSTAMP:20260425T135857
CREATED:20190122T174442Z
LAST-MODIFIED:20190122T174442Z
UID:4145-1563440400-1563453000@ehbo-zundert.nl
SUMMARY:Vakantieweek bij 't Stokpérdje
DESCRIPTION:Vele activiteiten voor kinderen van 4 tot en met 12 jaar
URL:https://ehbo-zundert.nl/evenement/vakantieweek-bij-t-stokperdje-5/
LOCATION:Stokperdje\, De Brug 15\, Zundert\, 4881 BH
ORGANIZER;CN="Rik Dockx":MAILTO:vakantieweek@stokperdje.nl
END:VEVENT
BEGIN:VEVENT
DTSTART;TZID=UTC:20190717T123000
DTEND;TZID=UTC:20190717T160000
DTSTAMP:20260425T135857
CREATED:20190122T173822Z
LAST-MODIFIED:20190122T173822Z
UID:4143-1563366600-1563379200@ehbo-zundert.nl
SUMMARY:Vakantie bij 't Stokperdje
DESCRIPTION:Vele activiteiten voor kinderen van 4 tot en met 12 jaar
URL:https://ehbo-zundert.nl/evenement/vakantie-bij-t-stokperdje/
LOCATION:Stokperdje\, De Brug 15\, Zundert\, 4881 BH
ORGANIZER;CN="Rik Dockx":MAILTO:vakantieweek@stokperdje.nl
END:VEVENT
BEGIN:VEVENT
DTSTART;TZID=UTC:20190717T090000
DTEND;TZID=UTC:20190717T123000
DTSTAMP:20260425T135857
CREATED:20190122T173648Z
LAST-MODIFIED:20190122T173648Z
UID:4141-1563354000-1563366600@ehbo-zundert.nl
SUMMARY:Vakantieweek bij 't Stokperdje
DESCRIPTION:Vele actviteiten voor kinderen van 4 tot en met 12 jaar
URL:https://ehbo-zundert.nl/evenement/vakantieweek-bij-t-stokperdje-4/
LOCATION:Stokperdje\, De Brug 15\, Zundert\, 4881 BH
ORGANIZER;CN="Rik Dockx":MAILTO:vakantieweek@stokperdje.nl
END:VEVENT
BEGIN:VEVENT
DTSTART;TZID=UTC:20190716T123000
DTEND;TZID=UTC:20190716T160000
DTSTAMP:20260425T135857
CREATED:20190122T173442Z
LAST-MODIFIED:20190122T173442Z
UID:4139-1563280200-1563292800@ehbo-zundert.nl
SUMMARY:Vakantieweek bij 't Stokpérdje
DESCRIPTION:Veel activiteiten voor kinderen van 4 tot en met 12 jaar
URL:https://ehbo-zundert.nl/evenement/vakantieweek-bij-t-stokperdje-3/
LOCATION:Stokperdje\, De Brug 15\, Zundert\, 4881 BH
ORGANIZER;CN="Rik Dockx":MAILTO:vakantieweek@stokperdje.nl
END:VEVENT
BEGIN:VEVENT
DTSTART;TZID=UTC:20190716T090000
DTEND;TZID=UTC:20190716T123000
DTSTAMP:20260425T135857
CREATED:20190122T173306Z
LAST-MODIFIED:20190122T173306Z
UID:4137-1563267600-1563280200@ehbo-zundert.nl
SUMMARY:Vakantieweek bij 't Stokperdje
DESCRIPTION:Veel activiteiten voor kinderen van 4 tot en met 12 jaar
URL:https://ehbo-zundert.nl/evenement/vakantieweek-bij-t-stokperdje-2/
LOCATION:Stokperdje\, De Brug 15\, Zundert\, 4881 BH
ORGANIZER;CN="Rik Dockx":MAILTO:vakantieweek@stokperdje.nl
END:VEVENT
BEGIN:VEVENT
DTSTART;TZID=UTC:20190715T123000
DTEND;TZID=UTC:20190715T160000
DTSTAMP:20260425T135857
CREATED:20190122T173140Z
LAST-MODIFIED:20190122T173140Z
UID:4135-1563193800-1563206400@ehbo-zundert.nl
SUMMARY:Vakantieweek bij 't Stokpérdje
DESCRIPTION:Veel activiteiten voor kinderen van 4 tot en met 12 jaar
URL:https://ehbo-zundert.nl/evenement/vakantieweek-bij-t-stokperdje/
LOCATION:Stokperdje\, De Brug 15\, Zundert\, 4881 BH
ORGANIZER;CN="Rik Dockx":MAILTO:vakantieweek@stokperdje.nl
END:VEVENT
BEGIN:VEVENT
DTSTART;TZID=UTC:20190715T090000
DTEND;TZID=UTC:20190715T123000
DTSTAMP:20260425T135857
CREATED:20190122T172917Z
LAST-MODIFIED:20190122T172917Z
UID:4133-1563181200-1563193800@ehbo-zundert.nl
SUMMARY:Vakantieweek 't Stokperdje
DESCRIPTION:vele activiteiten voor kinderen van 4 tot en met 12 jaar
URL:https://ehbo-zundert.nl/evenement/vakantieweek-t-stokperdje-11/
LOCATION:Stokperdje\, De Brug 15\, Zundert\, 4881 BH
ORGANIZER;CN="Rik Dockx":MAILTO:vakantieweek@stokperdje.nl
END:VEVENT
BEGIN:VEVENT
DTSTART;TZID=Europe/Amsterdam:20190713T200000
DTEND;TZID=Europe/Amsterdam:20190714T010000
DTSTAMP:20260425T135857
CREATED:20190703T123216Z
LAST-MODIFIED:20190703T123216Z
UID:4618-1563048000-1563066000@ehbo-zundert.nl
SUMMARY:Live in 't Turp
DESCRIPTION:Festival met diverse artiesten en dj’s. \n 
URL:https://ehbo-zundert.nl/evenement/live-in-t-turp/
LOCATION:Cafe ’t Krisje\, St. Bavostraat 77\, Rijsbergen
END:VEVENT
BEGIN:VEVENT
DTSTART;TZID=UTC:20190712T223000
DTEND;TZID=UTC:20190713T020000
DTSTAMP:20260425T135857
CREATED:20190209T122138Z
LAST-MODIFIED:20190701T142422Z
UID:4222-1562970600-1562983200@ehbo-zundert.nl
SUMMARY:GTC Rally
DESCRIPTION:
URL:https://ehbo-zundert.nl/evenement/gtc-rally-2/
LOCATION:Cafe Den Thuur\, Buntweg\, Achtmaal
END:VEVENT
BEGIN:VEVENT
DTSTART;TZID=UTC:20190712T190000
DTEND;TZID=UTC:20190712T223000
DTSTAMP:20260425T135857
CREATED:20190209T122010Z
LAST-MODIFIED:20190209T122010Z
UID:4218-1562958000-1562970600@ehbo-zundert.nl
SUMMARY:GTC - Rally
DESCRIPTION:
URL:https://ehbo-zundert.nl/evenement/gtc-rally/
LOCATION:Cafe Den Thuur\, Buntweg\, Achtmaal
END:VEVENT
BEGIN:VEVENT
DTSTART;TZID=Europe/Amsterdam:20190707T143000
DTEND;TZID=Europe/Amsterdam:20190707T190000
DTSTAMP:20260425T135857
CREATED:20190613T134210Z
LAST-MODIFIED:20190613T134210Z
UID:4586-1562509800-1562526000@ehbo-zundert.nl
SUMMARY:Boerendart - Buurtschap Veldstraat (2)
DESCRIPTION:
URL:https://ehbo-zundert.nl/evenement/boerendart-buurtschap-veldstraat-2/
LOCATION:CLTV Zundert\, Molenstraat 155\, Zundert
ORGANIZER;CN="Margot v.d. Brand":MAILTO:boerendart@veldstraat.nl
END:VEVENT
BEGIN:VEVENT
DTSTART;TZID=Europe/Amsterdam:20190707T100000
DTEND;TZID=Europe/Amsterdam:20190707T143000
DTSTAMP:20260425T135857
CREATED:20190613T134003Z
LAST-MODIFIED:20190613T134003Z
UID:4584-1562493600-1562509800@ehbo-zundert.nl
SUMMARY:Boerendart - Buurtschap Veldstraat
DESCRIPTION:
URL:https://ehbo-zundert.nl/evenement/boerendart-buurtschap-veldstraat/
LOCATION:CLTV Zundert\, Molenstraat 155\, Zundert
ORGANIZER;CN="Margot v.d. Brand":MAILTO:boerendart@veldstraat.nl
END:VEVENT
BEGIN:VEVENT
DTSTART;TZID=Europe/Amsterdam:20190707T090000
DTEND;TZID=Europe/Amsterdam:20190707T130000
DTSTAMP:20260425T135857
CREATED:20190613T131451Z
LAST-MODIFIED:20190613T131451Z
UID:4580-1562490000-1562504400@ehbo-zundert.nl
SUMMARY:WTC De Trappistentrappers - Tijdrit 7 juli 2019
DESCRIPTION:  \n 
URL:https://ehbo-zundert.nl/evenement/wtc-de-trappistentrappers-tijdrit-7-juli-2019/
LOCATION:Café Van T\, Wernhoutsweg 16\, Wernhout
END:VEVENT
BEGIN:VEVENT
DTSTART;TZID=UTC:20190706T130000
DTEND;TZID=UTC:20190706T180000
DTSTAMP:20260425T135857
CREATED:20190209T122449Z
LAST-MODIFIED:20190209T122449Z
UID:4224-1562418000-1562436000@ehbo-zundert.nl
SUMMARY:ZHC - Charles Toernooi
DESCRIPTION:Hockey toernooi voor senioren met leden en niet leden
URL:https://ehbo-zundert.nl/evenement/zhc-charles-toernooi/
LOCATION:Sportparkt de Wildert\, Wildertsedijk\, Zundert\, Nederland
END:VEVENT
BEGIN:VEVENT
DTSTART;TZID=UTC:20190630T160000
DTEND;TZID=UTC:20190630T190000
DTSTAMP:20260425T135857
CREATED:20190210T112540Z
LAST-MODIFIED:20190604T100511Z
UID:4246-1561910400-1561921200@ehbo-zundert.nl
SUMMARY:Aardbeienfeesten 30 juni van 16:00 tot 19:00 uur
DESCRIPTION:Braderie en Kermis
URL:https://ehbo-zundert.nl/evenement/aardbeienfeesten-7/
LOCATION:Hoek Eikenlaan-Molenstraat\, Molenstraat\, Zundert\, Nederland
ORGANIZER;CN="Ad de Bruijn":MAILTO:info@aardbeienfeesten.nl
END:VEVENT
BEGIN:VEVENT
DTSTART;TZID=Europe/Amsterdam:20190630T130000
DTEND;TZID=Europe/Amsterdam:20190630T170000
DTSTAMP:20260425T135857
CREATED:20190424T181600Z
LAST-MODIFIED:20190424T181600Z
UID:4474-1561899600-1561914000@ehbo-zundert.nl
SUMMARY:Menclub de Hangijzers 30 juni van 13:00 - 17:00 uur
DESCRIPTION:Marathon met paarden en pony’s.
URL:https://ehbo-zundert.nl/evenement/menclub-de-hangijzers-30-juni-van-1300-1700-uur/
LOCATION:Kraaiheuvelstraat
END:VEVENT
BEGIN:VEVENT
DTSTART;TZID=UTC:20190630T123000
DTEND;TZID=UTC:20190630T160000
DTSTAMP:20260425T135857
CREATED:20190210T112414Z
LAST-MODIFIED:20190604T100356Z
UID:4244-1561897800-1561910400@ehbo-zundert.nl
SUMMARY:Aardbeienfeesten 30 juni van 12:30 tot 16:00 uur
DESCRIPTION:Braderie en kermis
URL:https://ehbo-zundert.nl/evenement/aardbeienfeesten-6/
LOCATION:Hoek Eikenlaan-Molenstraat\, Molenstraat\, Zundert\, Nederland
ORGANIZER;CN="Ad de Bruijn":MAILTO:info@aardbeienfeesten.nl
END:VEVENT
BEGIN:VEVENT
DTSTART;TZID=Europe/Amsterdam:20190630T090000
DTEND;TZID=Europe/Amsterdam:20190630T130000
DTSTAMP:20260425T135857
CREATED:20190424T181421Z
LAST-MODIFIED:20190424T181421Z
UID:4471-1561885200-1561899600@ehbo-zundert.nl
SUMMARY:Menclub De Hangijzers  30 juni van 09:00 - 13:00 uur
DESCRIPTION:Marathon met Paarden en Pony’s.
URL:https://ehbo-zundert.nl/evenement/menclub-de-hangijzers-30-juni-van-0900-1300-uur/
LOCATION:Kraaiheuvelstraat
END:VEVENT
BEGIN:VEVENT
DTSTART;TZID=UTC:20190630T090000
DTEND;TZID=UTC:20190630T123000
DTSTAMP:20260425T135857
CREATED:20190210T112231Z
LAST-MODIFIED:20190604T095459Z
UID:4242-1561885200-1561897800@ehbo-zundert.nl
SUMMARY:Aardbeienfeesten 30 juni van 09:00 tot 12:30 uur
DESCRIPTION:Braderie en kermis
URL:https://ehbo-zundert.nl/evenement/aardbeienfeesten-5/
LOCATION:Hoek Eikenlaan-Molenstraat\, Molenstraat\, Zundert\, Nederland
ORGANIZER;CN="Ad de Bruijn":MAILTO:info@aardbeienfeesten.nl
END:VEVENT
BEGIN:VEVENT
DTSTART;TZID=UTC:20190629T160000
DTEND;TZID=UTC:20190629T190000
DTSTAMP:20260425T135857
CREATED:20190210T111759Z
LAST-MODIFIED:20190604T095244Z
UID:4238-1561824000-1561834800@ehbo-zundert.nl
SUMMARY:Aardbeienfeesten 29 juni van 16:00 tot 19:00 uur
DESCRIPTION:Braderie en Kermis
URL:https://ehbo-zundert.nl/evenement/aardbeienfeesten-3/
LOCATION:Hoek Eikenlaan-Molenstraat\, Molenstraat\, Zundert\, Nederland
ORGANIZER;CN="Ad de Bruijn":MAILTO:info@aardbeienfeesten.nl
END:VEVENT
BEGIN:VEVENT
DTSTART;TZID=UTC:20190629T143000
DTEND;TZID=UTC:20190629T193000
DTSTAMP:20260425T135857
CREATED:20190402T095005Z
LAST-MODIFIED:20190402T095005Z
UID:4423-1561818600-1561836600@ehbo-zundert.nl
SUMMARY:St. Sponsorclub Zundert - Voetbalwedstrijd Zundertse Selectie - NAC
DESCRIPTION:
URL:https://ehbo-zundert.nl/evenement/st-sponsorclub-zundert-voetbalwedstrijd-zundertse-selectie-nac/
LOCATION:Sportparkt de Wildert\, Wildertsedijk\, Zundert\, Nederland
END:VEVENT
BEGIN:VEVENT
DTSTART;TZID=UTC:20190629T123000
DTEND;TZID=UTC:20190629T160000
DTSTAMP:20260425T135857
CREATED:20190210T111541Z
LAST-MODIFIED:20190604T095010Z
UID:4236-1561811400-1561824000@ehbo-zundert.nl
SUMMARY:Aardbeienfeesten 29 juni van 12:30 tot 16:00 uur
DESCRIPTION:Braderie en kermis
URL:https://ehbo-zundert.nl/evenement/aardbeienfeesten-2/
LOCATION:Hoek Eikenlaan-Molenstraat\, Molenstraat\, Zundert\, Nederland
ORGANIZER;CN="Ad de Bruijn":MAILTO:info@aardbeienfeesten.nl
END:VEVENT
BEGIN:VEVENT
DTSTART;TZID=UTC:20190629T090000
DTEND;TZID=UTC:20190629T123000
DTSTAMP:20260425T135857
CREATED:20190210T111417Z
LAST-MODIFIED:20190604T094847Z
UID:4234-1561798800-1561811400@ehbo-zundert.nl
SUMMARY:Aardbeienfeesten 29 juni van 09:00 - 12:30 uur
DESCRIPTION:Braderie en Kermis
URL:https://ehbo-zundert.nl/evenement/aardbeienfeesten/
LOCATION:Hoek Eikenlaan-Molenstraat\, Molenstraat\, Zundert\, Nederland
ORGANIZER;CN="Ad de Bruijn":MAILTO:info@aardbeienfeesten.nl
END:VEVENT
BEGIN:VEVENT
DTSTART;TZID=Europe/Amsterdam:20190623T160000
DTEND;TZID=Europe/Amsterdam:20190623T200000
DTSTAMP:20260425T135857
CREATED:20190424T174951Z
LAST-MODIFIED:20190424T174951Z
UID:4459-1561305600-1561320000@ehbo-zundert.nl
SUMMARY:Wielerdorp Rijsbergen 16:00 - 20:00 uur
DESCRIPTION:
URL:https://ehbo-zundert.nl/evenement/wielerdorp-rijsbergen-1600-2000-uur/
LOCATION:Sportpark De Laguiten\, Rijsbergen
END:VEVENT
BEGIN:VEVENT
DTSTART;TZID=UTC:20190623T140000
DTEND;TZID=UTC:20190623T180000
DTSTAMP:20260425T135857
CREATED:20190122T172512Z
LAST-MODIFIED:20190122T172512Z
UID:4130-1561298400-1561312800@ehbo-zundert.nl
SUMMARY:Corso Zonder Grenzen - Buurtschap Klein Zundert
DESCRIPTION:Zeskampspel
URL:https://ehbo-zundert.nl/evenement/corso-zonder-grenzen-buurtschap-klein-zundert-2/
LOCATION:Tent Buurtschap Klein Zundert\, Past. v. Vessemstraat\, Zundert
END:VEVENT
BEGIN:VEVENT
DTSTART;TZID=Europe/Amsterdam:20190623T120000
DTEND;TZID=Europe/Amsterdam:20190623T160000
DTSTAMP:20260425T135857
CREATED:20190424T174835Z
LAST-MODIFIED:20190424T174835Z
UID:4457-1561291200-1561305600@ehbo-zundert.nl
SUMMARY:Wielerdorp Rijsbergen 12:00- 16:00 uur
DESCRIPTION:
URL:https://ehbo-zundert.nl/evenement/wielerdorp-rijsbergen-1200-1600-uur/
LOCATION:Sportpark De Laguiten\, Rijsbergen
END:VEVENT
END:VCALENDAR