BEGIN:VCALENDAR
VERSION:2.0
PRODID:-//EHBO Zundert - ECPv6.15.20//NONSGML v1.0//EN
CALSCALE:GREGORIAN
METHOD:PUBLISH
X-WR-CALNAME:EHBO Zundert
X-ORIGINAL-URL:https://ehbo-zundert.nl
X-WR-CALDESC:Evenementen voor EHBO Zundert
REFRESH-INTERVAL;VALUE=DURATION:PT1H
X-Robots-Tag:noindex
X-PUBLISHED-TTL:PT1H
BEGIN:VTIMEZONE
TZID:UTC
BEGIN:STANDARD
TZOFFSETFROM:+0000
TZOFFSETTO:+0000
TZNAME:UTC
DTSTART:20170101T000000
END:STANDARD
END:VTIMEZONE
BEGIN:VEVENT
DTSTART;TZID=UTC:20180717T093000
DTEND;TZID=UTC:20180717T123000
DTSTAMP:20260425T181537
CREATED:20180607T112508Z
LAST-MODIFIED:20180607T112508Z
UID:612-1531819800-1531830600@ehbo-zundert.nl
SUMMARY:Vakantieweek 't Stokperdje
DESCRIPTION:Kinderen van 4 tot en met 12 jaar bouwen en spelen rondom ’t jeugdgebouw
URL:https://ehbo-zundert.nl/evenement/vakantieweek-t-stokperdje-3/
LOCATION:Stokperdje\, De Brug 15\, Zundert\, 4881 BH
ORGANIZER;CN="Rik Dockx":MAILTO:vakantieweek@stokperdje.nl
END:VEVENT
BEGIN:VEVENT
DTSTART;TZID=UTC:20180716T123000
DTEND;TZID=UTC:20180716T160000
DTSTAMP:20260425T181537
CREATED:20180607T111919Z
LAST-MODIFIED:20180607T112231Z
UID:609-1531744200-1531756800@ehbo-zundert.nl
SUMMARY:Vakantieweek 't Stokperdje
DESCRIPTION:Kinderen bouwen en spelen rondom het jeugdgebouw
URL:https://ehbo-zundert.nl/evenement/vakantieweek-t-stokperdje-2/
LOCATION:Stokperdje\, De Brug 15\, Zundert\, 4881 BH
ORGANIZER;CN="Rik Dockx":MAILTO:vakantieweek@stokperdje.nl
END:VEVENT
BEGIN:VEVENT
DTSTART;TZID=UTC:20180716T090000
DTEND;TZID=UTC:20180716T123000
DTSTAMP:20260425T181537
CREATED:20180607T111755Z
LAST-MODIFIED:20180711T115034Z
UID:605-1531731600-1531744200@ehbo-zundert.nl
SUMMARY:Vakantieweek 't Stokperdje
DESCRIPTION:kinderen van 4 tot en met 12 jaar bouwen en spelen heel de week rondom het jeugdgebouw
URL:https://ehbo-zundert.nl/evenement/vakantieweek-t-stokperdje/
LOCATION:Stokperdje\, De Brug 15\, Zundert\, 4881 BH
ORGANIZER;CN="Rik Dockx":MAILTO:vakantieweek@stokperdje.nl
END:VEVENT
BEGIN:VEVENT
DTSTART;TZID=UTC:20180715T140000
DTEND;TZID=UTC:20180715T180000
DTSTAMP:20260425T181537
CREATED:20180607T110440Z
LAST-MODIFIED:20180607T110906Z
UID:602-1531663200-1531677600@ehbo-zundert.nl
SUMMARY:St. Jan
DESCRIPTION:Braderie – Jaarmarkt
URL:https://ehbo-zundert.nl/evenement/st-jan/
LOCATION:Café de Valk\, Wernhoutseweg\, Wernhout
ORGANIZER;CN="Dhr. M. Smout":MAILTO:mjmsmout@home.nl
END:VEVENT
BEGIN:VEVENT
DTSTART;TZID=UTC:20180715T100000
DTEND;TZID=UTC:20180715T140000
DTSTAMP:20260425T181537
CREATED:20180607T105930Z
LAST-MODIFIED:20180607T110033Z
UID:598-1531648800-1531663200@ehbo-zundert.nl
SUMMARY:Sint Jan
DESCRIPTION:Braderie – Jaarmarkt
URL:https://ehbo-zundert.nl/evenement/sint-jan/
LOCATION:Café de Valk\, Wernhoutseweg\, Wernhout
ORGANIZER;CN="Dhr. M. Smout":MAILTO:mjmsmout@home.nl
END:VEVENT
BEGIN:VEVENT
DTSTART;TZID=UTC:20180714T183000
DTEND;TZID=UTC:20180715T020000
DTSTAMP:20260425T181537
CREATED:20180630T110910Z
LAST-MODIFIED:20180630T110910Z
UID:677-1531593000-1531620000@ehbo-zundert.nl
SUMMARY:Autosport zuid West Brabant
DESCRIPTION:
URL:https://ehbo-zundert.nl/evenement/autosport-zuid-west-brabant/
END:VEVENT
BEGIN:VEVENT
DTSTART;TZID=UTC:20180701T140000
DTEND;TZID=UTC:20180701T173000
DTSTAMP:20260425T181537
CREATED:20180630T121458Z
LAST-MODIFIED:20180630T121458Z
UID:693-1530453600-1530466200@ehbo-zundert.nl
SUMMARY:Boerendart
DESCRIPTION:
URL:https://ehbo-zundert.nl/evenement/boerendart/
ORGANIZER;CN="Margot v.d. Brand":MAILTO:boerendart@veldstraat.nl
END:VEVENT
BEGIN:VEVENT
DTSTART;TZID=UTC:20180701T100000
DTEND;TZID=UTC:20180701T140000
DTSTAMP:20260425T181537
CREATED:20180607T105515Z
LAST-MODIFIED:20180630T102905Z
UID:594-1530439200-1530453600@ehbo-zundert.nl
SUMMARY:Boerendart Zundert
DESCRIPTION:Boerendart van Buurtschap Veldstraat
URL:https://ehbo-zundert.nl/evenement/boerendart-zundert/
LOCATION:CLTV Zundert\, Molenstraat 155\, Zundert
ORGANIZER;CN="Margot v.d. Brand":MAILTO:boerendart@veldstraat.nl
END:VEVENT
BEGIN:VEVENT
DTSTART;TZID=UTC:20180701T083000
DTEND;TZID=UTC:20180701T130000
DTSTAMP:20260425T181537
CREATED:20180607T104828Z
LAST-MODIFIED:20180607T104828Z
UID:590-1530433800-1530450000@ehbo-zundert.nl
SUMMARY:WTC de Trappistentrappers
DESCRIPTION:Tijdrit
URL:https://ehbo-zundert.nl/evenement/wtc-de-trappistentrappers/
LOCATION:Café Van T\, Wernhoutsweg 16\, Wernhout
ORGANIZER;CN="Jasper van der Kloof":MAILTO:trappistentrappers@ziggo.nl
END:VEVENT
BEGIN:VEVENT
DTSTART;TZID=UTC:20180624T143000
DTEND;TZID=UTC:20180624T180000
DTSTAMP:20260425T181537
CREATED:20180508T155308Z
LAST-MODIFIED:20180508T155408Z
UID:433-1529850600-1529863200@ehbo-zundert.nl
SUMMARY:ZHC Toernooi (14.30 tot 18:00 uur)
DESCRIPTION:Toernooi voor Senior leden en niet leden van ZHC
URL:https://ehbo-zundert.nl/evenement/zhc-toernooi-14-30-tot-1800-uur/
LOCATION:Sportparkt de Wildert\, Wildertsedijk\, Zundert\, Nederland
END:VEVENT
BEGIN:VEVENT
DTSTART;TZID=UTC:20180624T120000
DTEND;TZID=UTC:20180624T163000
DTSTAMP:20260425T181537
CREATED:20180607T103547Z
LAST-MODIFIED:20180607T103547Z
UID:587-1529841600-1529857800@ehbo-zundert.nl
SUMMARY:Menclub De Hangijzers
DESCRIPTION:Jaarlijkse Menwedstrijd te Achtmaal
URL:https://ehbo-zundert.nl/evenement/menclub-de-hangijzers-2/
LOCATION:Kraaiheuvelstraat
ORGANIZER;CN="G.M.J. Pesman":MAILTO:g.pesman@kpnplanet.nl
END:VEVENT
BEGIN:VEVENT
DTSTART;TZID=UTC:20180624T113000
DTEND;TZID=UTC:20180624T143000
DTSTAMP:20260425T181537
CREATED:20180508T154957Z
LAST-MODIFIED:20180508T155122Z
UID:429-1529839800-1529850600@ehbo-zundert.nl
SUMMARY:ZHC Toernooi (11.30 tot 14:30 uur)
DESCRIPTION:Toernooi voor Senior leden en niet leden van ZHC
URL:https://ehbo-zundert.nl/evenement/zhc-toernooi-11-30-tot-1430-uur/
LOCATION:Sportparkt de Wildert\, Wildertsedijk\, Zundert\, Nederland
END:VEVENT
BEGIN:VEVENT
DTSTART;TZID=UTC:20180624T090000
DTEND;TZID=UTC:20180624T120000
DTSTAMP:20260425T181537
CREATED:20180607T103426Z
LAST-MODIFIED:20180607T103426Z
UID:583-1529830800-1529841600@ehbo-zundert.nl
SUMMARY:Menclub de Hangijzers
DESCRIPTION:Jaarlijkse Menwedstrijd
URL:https://ehbo-zundert.nl/evenement/menclub-de-hangijzers/
LOCATION:Kraaiheuvelstraat
ORGANIZER;CN="G.M.J. Pesman":MAILTO:g.pesman@kpnplanet.nl
END:VEVENT
BEGIN:VEVENT
DTSTART;TZID=UTC:20180623T193000
DTEND;TZID=UTC:20180624T010000
DTSTAMP:20260425T181537
CREATED:20180607T103004Z
LAST-MODIFIED:20180607T103115Z
UID:579-1529782200-1529802000@ehbo-zundert.nl
SUMMARY:Stichting PocoZ
DESCRIPTION:Openlucht Popfestival
URL:https://ehbo-zundert.nl/evenement/stichting-pocoz/
LOCATION:Vincent van Goghplein
ORGANIZER;CN="Marcel de Bruijn":MAILTO:info@pocoz.nl
END:VEVENT
BEGIN:VEVENT
DTSTART;TZID=UTC:20180617T123000
DTEND;TZID=UTC:20180617T160000
DTSTAMP:20260425T181537
CREATED:20180607T102432Z
LAST-MODIFIED:20180607T102432Z
UID:574-1529238600-1529251200@ehbo-zundert.nl
SUMMARY:Pallieterrun
DESCRIPTION:Rondrit door de gemeente Zundert op motoren en trikes met gehandicapten
URL:https://ehbo-zundert.nl/evenement/pallieterrun/
LOCATION:Jan Koekenplein
END:VEVENT
BEGIN:VEVENT
DTSTART;TZID=UTC:20180617T110000
DTEND;TZID=UTC:20180617T170000
DTSTAMP:20260425T181537
CREATED:20180607T102122Z
LAST-MODIFIED:20180607T102122Z
UID:571-1529233200-1529254800@ehbo-zundert.nl
SUMMARY:Harmonie St. Cecilia Rijsbergen
DESCRIPTION:Zomermarkt en kermis
URL:https://ehbo-zundert.nl/evenement/harmonie-st-cecilia-rijsbergen/
ORGANIZER;CN="Jacqueline Verschuren":MAILTO:jaqverschueren@hotmail.com
END:VEVENT
BEGIN:VEVENT
DTSTART;TZID=UTC:20180616T160000
DTEND;TZID=UTC:20180616T210000
DTSTAMP:20260425T181537
CREATED:20180607T101406Z
LAST-MODIFIED:20180607T101406Z
UID:566-1529164800-1529182800@ehbo-zundert.nl
SUMMARY:St. Bavoloop Rijsbergen
DESCRIPTION:Sportevenement (hard)lopen door de dorpskern van Rijsbergen
URL:https://ehbo-zundert.nl/evenement/st-bavoloop-rijsbergen/
LOCATION:Lindekesplein
END:VEVENT
BEGIN:VEVENT
DTSTART;TZID=UTC:20180616T120000
DTEND;TZID=UTC:20180616T160000
DTSTAMP:20260425T181537
CREATED:20180607T045219Z
LAST-MODIFIED:20180607T045312Z
UID:551-1529150400-1529164800@ehbo-zundert.nl
SUMMARY:Kennedymars Rijsbergen
DESCRIPTION:Wandelevenement
URL:https://ehbo-zundert.nl/evenement/kennedymars-rijsbergen-3/
END:VEVENT
BEGIN:VEVENT
DTSTART;TZID=UTC:20180616T080000
DTEND;TZID=UTC:20180616T120000
DTSTAMP:20260425T181537
CREATED:20180607T043432Z
LAST-MODIFIED:20180607T043432Z
UID:549-1529136000-1529150400@ehbo-zundert.nl
SUMMARY:Kennedymars Rijsbergen
DESCRIPTION:Wandelevenement
URL:https://ehbo-zundert.nl/evenement/kennedymars-rijsbergen-2/
LOCATION:Kantine VVR
END:VEVENT
BEGIN:VEVENT
DTSTART;TZID=UTC:20180616T063000
DTEND;TZID=UTC:20180616T123000
DTSTAMP:20260425T181537
CREATED:20180607T095833Z
LAST-MODIFIED:20180607T100123Z
UID:558-1529130600-1529152200@ehbo-zundert.nl
SUMMARY:Kennedymars Rijsbergen
DESCRIPTION:Wandelevenement
URL:https://ehbo-zundert.nl/evenement/kennedymars-rijsbergen-5/
LOCATION:MFA Achtmaal
END:VEVENT
BEGIN:VEVENT
DTSTART;TZID=UTC:20180616T053000
DTEND;TZID=UTC:20180616T110000
DTSTAMP:20260425T181537
CREATED:20180607T100402Z
LAST-MODIFIED:20180607T100512Z
UID:561-1529127000-1529146800@ehbo-zundert.nl
SUMMARY:Kennedymars Rijsbergen
DESCRIPTION:Wandelevenement
URL:https://ehbo-zundert.nl/evenement/kennedymars-rijsbergen-6/
LOCATION:VV Wernhout\, Diepstraat 41\, Wernhout\, Nederland
END:VEVENT
BEGIN:VEVENT
DTSTART;TZID=UTC:20180616T043000
DTEND;TZID=UTC:20180616T100000
DTSTAMP:20260425T181537
CREATED:20180607T095029Z
LAST-MODIFIED:20180607T095029Z
UID:555-1529123400-1529143200@ehbo-zundert.nl
SUMMARY:Kennedymars Rijsbergen
DESCRIPTION:Wandelevenement
URL:https://ehbo-zundert.nl/evenement/kennedymars-rijsbergen-4/
LOCATION:Rustenburgstraat
END:VEVENT
BEGIN:VEVENT
DTSTART;TZID=UTC:20180616T010000
DTEND;TZID=UTC:20180616T080000
DTSTAMP:20260425T181537
CREATED:20180607T042655Z
LAST-MODIFIED:20180607T042655Z
UID:546-1529110800-1529136000@ehbo-zundert.nl
SUMMARY:Kennedymars Rijsbergen
DESCRIPTION:Wandelevenement van ’s avonds 22:00 tot 16:00 uur de andere dag
URL:https://ehbo-zundert.nl/evenement/kennedymars-rijsbergen/
LOCATION:Kantine VVR
END:VEVENT
BEGIN:VEVENT
DTSTART;TZID=UTC:20180615T220000
DTEND;TZID=UTC:20180616T010000
DTSTAMP:20260425T181537
CREATED:20180607T041432Z
LAST-MODIFIED:20180607T044716Z
UID:542-1529100000-1529110800@ehbo-zundert.nl
SUMMARY:Kennedy Mars Rijsbergen
DESCRIPTION:
URL:https://ehbo-zundert.nl/evenement/kennedy-mars-rijsbergen/
END:VEVENT
BEGIN:VEVENT
DTSTART;TZID=UTC:20180609T190000
DTEND;TZID=UTC:20180609T190000
DTSTAMP:20260425T181537
CREATED:20180608T103149Z
LAST-MODIFIED:20180608T103149Z
UID:650-1528570800-1528570800@ehbo-zundert.nl
SUMMARY:Aardbeienfeesten Zundert
DESCRIPTION:
URL:https://ehbo-zundert.nl/evenement/aardbeienfeesten-zundert-3/
LOCATION:Hoek Eikenlaan-Molenstraat\, Molenstraat\, Zundert\, Nederland
ORGANIZER;CN="Ad de Bruijn":MAILTO:info@aardbeienfeesten.nl
END:VEVENT
BEGIN:VEVENT
DTSTART;TZID=UTC:20180609T140000
DTEND;TZID=UTC:20180609T190000
DTSTAMP:20260425T181537
CREATED:20180608T102129Z
LAST-MODIFIED:20180608T102258Z
UID:648-1528552800-1528570800@ehbo-zundert.nl
SUMMARY:Aardbeienfeesten Zundert
DESCRIPTION:Braderie\, maquette presentatie en kermis in het centrum van Zundert
URL:https://ehbo-zundert.nl/evenement/aardbeienfeesten-zundert-2/
LOCATION:Hoek Eikenlaan-Molenstraat\, Molenstraat\, Zundert\, Nederland
ORGANIZER;CN="Ad de Bruijn":MAILTO:info@aardbeienfeesten.nl
END:VEVENT
BEGIN:VEVENT
DTSTART;TZID=UTC:20180609T090000
DTEND;TZID=UTC:20180609T140000
DTSTAMP:20260425T181537
CREATED:20180608T101813Z
LAST-MODIFIED:20180608T101813Z
UID:645-1528534800-1528552800@ehbo-zundert.nl
SUMMARY:Aardbeienfeesten Zundert
DESCRIPTION:Braderie\, maquette presentatie\, kermis in het centrum van Zundert
URL:https://ehbo-zundert.nl/evenement/aardbeienfeesten-zundert/
LOCATION:Hoek Eikenlaan-Molenstraat\, Molenstraat\, Zundert\, Nederland
ORGANIZER;CN="Ad de Bruijn":MAILTO:info@aardbeienfeesten.nl
END:VEVENT
BEGIN:VEVENT
DTSTART;TZID=UTC:20180608T181500
DTEND;TZID=UTC:20180608T213000
DTSTAMP:20260425T181537
CREATED:20180508T160956Z
LAST-MODIFIED:20180508T161124Z
UID:443-1528481700-1528493400@ehbo-zundert.nl
SUMMARY:Avond4daagse Rijsbergen (18:15 - 21:30 uur)
DESCRIPTION:
URL:https://ehbo-zundert.nl/evenement/avond4daagse-rijsbergen-1815-2130-uur-copy-2/
LOCATION:Amarant Leijakkerplein 4\, Leijakkerplein 4\, Rijsbergen\, Nederland
END:VEVENT
BEGIN:VEVENT
DTSTART;TZID=UTC:20180607T181500
DTEND;TZID=UTC:20180607T213000
DTSTAMP:20260425T181537
CREATED:20180508T160850Z
LAST-MODIFIED:20180508T160931Z
UID:441-1528395300-1528407000@ehbo-zundert.nl
SUMMARY:Avond4daagse Rijsbergen (18:15 - 21:30 uur)
DESCRIPTION:
URL:https://ehbo-zundert.nl/evenement/avond4daagse-rijsbergen-1815-2130-uur-copy/
LOCATION:Amarant Leijakkerplein 4\, Leijakkerplein 4\, Rijsbergen\, Nederland
END:VEVENT
BEGIN:VEVENT
DTSTART;TZID=UTC:20180606T181500
DTEND;TZID=UTC:20180606T213000
DTSTAMP:20260425T181537
CREATED:20180508T160634Z
LAST-MODIFIED:20180508T160828Z
UID:439-1528308900-1528320600@ehbo-zundert.nl
SUMMARY:Avond4daagse Rijsbergen (18:15 - 21:30 uur)
DESCRIPTION:
URL:https://ehbo-zundert.nl/evenement/avond4daagse-rijsbergen-1815-2130-uur-2/
LOCATION:Amarant Leijakkerplein 4\, Leijakkerplein 4\, Rijsbergen\, Nederland
END:VEVENT
END:VCALENDAR