BEGIN:VCALENDAR
VERSION:2.0
PRODID:-//EHBO Zundert - ECPv6.15.20//NONSGML v1.0//EN
CALSCALE:GREGORIAN
METHOD:PUBLISH
X-ORIGINAL-URL:https://ehbo-zundert.nl
X-WR-CALDESC:Evenementen voor EHBO Zundert
REFRESH-INTERVAL;VALUE=DURATION:PT1H
X-Robots-Tag:noindex
X-PUBLISHED-TTL:PT1H
BEGIN:VTIMEZONE
TZID:Europe/Amsterdam
BEGIN:DAYLIGHT
TZOFFSETFROM:+0100
TZOFFSETTO:+0200
TZNAME:CEST
DTSTART:20240331T010000
END:DAYLIGHT
BEGIN:STANDARD
TZOFFSETFROM:+0200
TZOFFSETTO:+0100
TZNAME:CET
DTSTART:20241027T010000
END:STANDARD
BEGIN:DAYLIGHT
TZOFFSETFROM:+0100
TZOFFSETTO:+0200
TZNAME:CEST
DTSTART:20250330T010000
END:DAYLIGHT
BEGIN:STANDARD
TZOFFSETFROM:+0200
TZOFFSETTO:+0100
TZNAME:CET
DTSTART:20251026T010000
END:STANDARD
BEGIN:DAYLIGHT
TZOFFSETFROM:+0100
TZOFFSETTO:+0200
TZNAME:CEST
DTSTART:20260329T010000
END:DAYLIGHT
BEGIN:STANDARD
TZOFFSETFROM:+0200
TZOFFSETTO:+0100
TZNAME:CET
DTSTART:20261025T010000
END:STANDARD
END:VTIMEZONE
BEGIN:VEVENT
DTSTART;TZID=Europe/Amsterdam:20250801T210000
DTEND;TZID=Europe/Amsterdam:20250802T010000
DTSTAMP:20260422T133632
CREATED:20241127T111456Z
LAST-MODIFIED:20241127T111456Z
UID:16243-1754082000-1754096400@ehbo-zundert.nl
SUMMARY:Tentfeest - KPJ Rijsbergen  Vrijdag 1 augustus 2025
DESCRIPTION:
URL:https://ehbo-zundert.nl/evenement/tentfeest-kpj-rijsbergen-vrijdag-1-augustus-2025/
LOCATION:Tiggeltsebergstraat\, Rijsbergen
END:VEVENT
BEGIN:VEVENT
DTSTART;TZID=Europe/Amsterdam:20250727T130000
DTEND;TZID=Europe/Amsterdam:20250727T180000
DTSTAMP:20260422T133632
CREATED:20250709T172535Z
LAST-MODIFIED:20250709T172535Z
UID:16900-1753621200-1753639200@ehbo-zundert.nl
SUMMARY:Ostaayse Kermis - Zondag 27 juli 2025
DESCRIPTION:Beach Soccer toernooi
URL:https://ehbo-zundert.nl/evenement/ostaayse-kermis-zondag-27-juli-2025/
END:VEVENT
BEGIN:VEVENT
DTSTART;TZID=Europe/Amsterdam:20250726T210000
DTEND;TZID=Europe/Amsterdam:20250727T010000
DTSTAMP:20260422T133632
CREATED:20250612T065506Z
LAST-MODIFIED:20250707T114002Z
UID:16839-1753563600-1753578000@ehbo-zundert.nl
SUMMARY:Ostaayse Kermis - Zaterdag 26 juli 2025
DESCRIPTION:
URL:https://ehbo-zundert.nl/evenement/ostaayse-kermis-zaterdag-26-juli-2025/
LOCATION:Blokenstraat Achtmaal
END:VEVENT
BEGIN:VEVENT
DTSTART;TZID=Europe/Amsterdam:20250718T123000
DTEND;TZID=Europe/Amsterdam:20250718T160000
DTSTAMP:20260422T133632
CREATED:20250227T134333Z
LAST-MODIFIED:20250227T134333Z
UID:16644-1752841800-1752854400@ehbo-zundert.nl
SUMMARY:Vakantieweek - vrijdag 18 juli (deel 2)
DESCRIPTION:
URL:https://ehbo-zundert.nl/evenement/vakantieweek-vrijdag-18-juli-deel-2/
LOCATION:’t Stokperdje\, De Brug 15\, Zundert
END:VEVENT
BEGIN:VEVENT
DTSTART;TZID=Europe/Amsterdam:20250718T090000
DTEND;TZID=Europe/Amsterdam:20250718T123000
DTSTAMP:20260422T133632
CREATED:20250227T134149Z
LAST-MODIFIED:20250227T134455Z
UID:16642-1752829200-1752841800@ehbo-zundert.nl
SUMMARY:Vakantieweek - Vrijdag 18 juli (deel 1)
DESCRIPTION:
URL:https://ehbo-zundert.nl/evenement/vakantieweek-vrijdag-17-juli-deel-1/
LOCATION:’t Stokperdje\, De Brug 15\, Zundert
END:VEVENT
BEGIN:VEVENT
DTSTART;TZID=Europe/Amsterdam:20250717T123000
DTEND;TZID=Europe/Amsterdam:20250717T160000
DTSTAMP:20260422T133632
CREATED:20250227T133733Z
LAST-MODIFIED:20250227T133733Z
UID:16640-1752755400-1752768000@ehbo-zundert.nl
SUMMARY:Vakantieweek - Donderdag 17 juli (deel 2)
DESCRIPTION:
URL:https://ehbo-zundert.nl/evenement/vakantieweek-donderdag-17-juli-deel-2/
LOCATION:’t Stokperdje\, De Brug 15\, Zundert
END:VEVENT
BEGIN:VEVENT
DTSTART;TZID=Europe/Amsterdam:20250717T090000
DTEND;TZID=Europe/Amsterdam:20250717T123000
DTSTAMP:20260422T133632
CREATED:20250227T133516Z
LAST-MODIFIED:20250227T133531Z
UID:16637-1752742800-1752755400@ehbo-zundert.nl
SUMMARY:Vakantieweek - Donderdag 17 juli (deel 1)
DESCRIPTION:
URL:https://ehbo-zundert.nl/evenement/vakantieweek-donderdag-17-juli/
LOCATION:’t Stokperdje\, De Brug 15\, Zundert
END:VEVENT
BEGIN:VEVENT
DTSTART;TZID=Europe/Amsterdam:20250716T123000
DTEND;TZID=Europe/Amsterdam:20250716T160000
DTSTAMP:20260422T133632
CREATED:20250227T133158Z
LAST-MODIFIED:20250227T133158Z
UID:16635-1752669000-1752681600@ehbo-zundert.nl
SUMMARY:Vakantieweek - Woensdag 16 juli (deel 2)
DESCRIPTION:
URL:https://ehbo-zundert.nl/evenement/vakantieweek-woensdag-16-juli-deel-2/
LOCATION:’t Stokperdje\, De Brug 15\, Zundert
END:VEVENT
BEGIN:VEVENT
DTSTART;TZID=Europe/Amsterdam:20250716T090000
DTEND;TZID=Europe/Amsterdam:20250716T123000
DTSTAMP:20260422T133632
CREATED:20250227T133029Z
LAST-MODIFIED:20250227T133029Z
UID:16633-1752656400-1752669000@ehbo-zundert.nl
SUMMARY:Vakantieweek - Woensdag 16 juli (deel 1)
DESCRIPTION:
URL:https://ehbo-zundert.nl/evenement/vakantieweek-woensdag-16-juli-deel-1/
LOCATION:’t Stokperdje\, De Brug 15\, Zundert
END:VEVENT
BEGIN:VEVENT
DTSTART;TZID=Europe/Amsterdam:20250715T123000
DTEND;TZID=Europe/Amsterdam:20250715T160000
DTSTAMP:20260422T133632
CREATED:20250227T132907Z
LAST-MODIFIED:20250227T132907Z
UID:16631-1752582600-1752595200@ehbo-zundert.nl
SUMMARY:Vakantieweek - dinsdag 15 juli (deel 2)
DESCRIPTION:
URL:https://ehbo-zundert.nl/evenement/vakantieweek-dinsdag-15-juli-deel-2/
LOCATION:’t Stokperdje\, De Brug 15\, Zundert
END:VEVENT
BEGIN:VEVENT
DTSTART;TZID=Europe/Amsterdam:20250715T090000
DTEND;TZID=Europe/Amsterdam:20250715T123000
DTSTAMP:20260422T133632
CREATED:20250227T131901Z
LAST-MODIFIED:20250227T131901Z
UID:16628-1752570000-1752582600@ehbo-zundert.nl
SUMMARY:Vakantieweek - Dinsdag 15 juli (deel 1)
DESCRIPTION:
URL:https://ehbo-zundert.nl/evenement/vakantieweek-dinsdag-15-juli-deel-1/
LOCATION:’t Stokperdje\, De Brug 15\, Zundert
END:VEVENT
BEGIN:VEVENT
DTSTART;TZID=Europe/Amsterdam:20250714T123000
DTEND;TZID=Europe/Amsterdam:20250714T160000
DTSTAMP:20260422T133632
CREATED:20250227T131704Z
LAST-MODIFIED:20250227T131704Z
UID:16626-1752496200-1752508800@ehbo-zundert.nl
SUMMARY:Vakantieweek - maandag 14 juli (deel 2)
DESCRIPTION:
URL:https://ehbo-zundert.nl/evenement/vakantieweek-maandag-14-juli-deel-2/
LOCATION:’t Stokperdje\, De Brug 15\, Zundert
END:VEVENT
BEGIN:VEVENT
DTSTART;TZID=Europe/Amsterdam:20250714T090000
DTEND;TZID=Europe/Amsterdam:20250714T123000
DTSTAMP:20260422T133632
CREATED:20250227T131516Z
LAST-MODIFIED:20250227T131516Z
UID:16623-1752483600-1752496200@ehbo-zundert.nl
SUMMARY:Vakantieweek - maandag 14 juli (deel 1)
DESCRIPTION:
URL:https://ehbo-zundert.nl/evenement/vakantieweek-maandag-14-juli-deel-1/
LOCATION:’t Stokperdje\, De Brug 15\, Zundert
END:VEVENT
BEGIN:VEVENT
DTSTART;TZID=Europe/Amsterdam:20250713T103000
DTEND;TZID=Europe/Amsterdam:20250713T153000
DTSTAMP:20260422T133632
CREATED:20250123T124553Z
LAST-MODIFIED:20250522T151714Z
UID:16506-1752402600-1752420600@ehbo-zundert.nl
SUMMARY:Wielerronde van Klein Zundert
DESCRIPTION:
URL:https://ehbo-zundert.nl/evenement/wielerronde-van-klein-zundert/
LOCATION:Pastoor van Vessemstraat 52a\, Zundert
END:VEVENT
BEGIN:VEVENT
DTSTART;TZID=Europe/Amsterdam:20250712T173000
DTEND;TZID=Europe/Amsterdam:20250712T210000
DTSTAMP:20260422T133632
CREATED:20250318T102521Z
LAST-MODIFIED:20250318T102521Z
UID:16707-1752341400-1752354000@ehbo-zundert.nl
SUMMARY:Autorally Achtmaal - Zaterdag 12 juli (deel 3)
DESCRIPTION:
URL:https://ehbo-zundert.nl/evenement/autorally-achtmaal-zaterdag-12-juli-deel-3/
LOCATION:Buntweg/Heiningenstraat\, Achtmaal
END:VEVENT
BEGIN:VEVENT
DTSTART;TZID=Europe/Amsterdam:20250712T140000
DTEND;TZID=Europe/Amsterdam:20250712T173000
DTSTAMP:20260422T133632
CREATED:20250318T102140Z
LAST-MODIFIED:20250318T102140Z
UID:16705-1752328800-1752341400@ehbo-zundert.nl
SUMMARY:Autorally Achtmaal - Zaterdag 12 juli (deel 2)
DESCRIPTION:
URL:https://ehbo-zundert.nl/evenement/autorally-achtmaal-zaterdag-12-juli-deel-2/
LOCATION:Buntweg/Heiningenstraat\, Achtmaal
END:VEVENT
BEGIN:VEVENT
DTSTART;TZID=Europe/Amsterdam:20250712T100000
DTEND;TZID=Europe/Amsterdam:20250712T140000
DTSTAMP:20260422T133632
CREATED:20250318T101832Z
LAST-MODIFIED:20250318T101832Z
UID:16703-1752314400-1752328800@ehbo-zundert.nl
SUMMARY:Autorally Achtmaal - Zaterdag 12 juli (deel 1)
DESCRIPTION:
URL:https://ehbo-zundert.nl/evenement/autorally-achtmaal-zaterdag-12-juli-deel-1/
LOCATION:Buntweg/Heiningenstraat\, Achtmaal
END:VEVENT
BEGIN:VEVENT
DTSTART;TZID=Europe/Amsterdam:20250711T210000
DTEND;TZID=Europe/Amsterdam:20250712T013000
DTSTAMP:20260422T133632
CREATED:20250318T101646Z
LAST-MODIFIED:20250318T101646Z
UID:16701-1752267600-1752283800@ehbo-zundert.nl
SUMMARY:Autorally Achtmaal - Vrijdag 11 juli (deel 2)
DESCRIPTION:
URL:https://ehbo-zundert.nl/evenement/autorally-achtmaal-vrijdag-11-juli-deel-2/
LOCATION:Buntweg/Heiningenstraat\, Achtmaal
END:VEVENT
BEGIN:VEVENT
DTSTART;TZID=Europe/Amsterdam:20250711T160000
DTEND;TZID=Europe/Amsterdam:20250711T210000
DTSTAMP:20260422T133632
CREATED:20250318T101500Z
LAST-MODIFIED:20250318T101500Z
UID:16699-1752249600-1752267600@ehbo-zundert.nl
SUMMARY:Autorally Achtmaal - Vrijdag 11 juli (deel 1)
DESCRIPTION:
URL:https://ehbo-zundert.nl/evenement/autorally-achtmaal-vrijdag-11-juli-deel-1/
LOCATION:Buntweg/Heiningenstraat\, Achtmaal
END:VEVENT
BEGIN:VEVENT
DTSTART;TZID=Europe/Amsterdam:20250706T190000
DTEND;TZID=Europe/Amsterdam:20250706T233000
DTSTAMP:20260422T133632
CREATED:20250318T112324Z
LAST-MODIFIED:20250704T190612Z
UID:16723-1751828400-1751844600@ehbo-zundert.nl
SUMMARY:KPJ Rijsbergen - Trekkertrek Zondag 6 juli (deel 3) - evenement door organisatie afgezegd.
DESCRIPTION:
URL:https://ehbo-zundert.nl/evenement/kpj-rijsbergen-trekkertrek-zondag-6-juli-deel-3/
LOCATION:Tiggeltsebergstraat\, Rijsbergen
END:VEVENT
BEGIN:VEVENT
DTSTART;TZID=Europe/Amsterdam:20250706T143000
DTEND;TZID=Europe/Amsterdam:20250706T190000
DTSTAMP:20260422T133632
CREATED:20250319T151925Z
LAST-MODIFIED:20250319T151925Z
UID:16734-1751812200-1751828400@ehbo-zundert.nl
SUMMARY:Boerendart - Zondag 6 juli (deel 2)
DESCRIPTION:
URL:https://ehbo-zundert.nl/evenement/boerendart-zondag-6-juli-deel-2/
LOCATION:CLTV Zundert\, Molenstraat 155\, Zundert
END:VEVENT
BEGIN:VEVENT
DTSTART;TZID=Europe/Amsterdam:20250706T143000
DTEND;TZID=Europe/Amsterdam:20250706T190000
DTSTAMP:20260422T133632
CREATED:20250318T111319Z
LAST-MODIFIED:20250704T190911Z
UID:16719-1751812200-1751828400@ehbo-zundert.nl
SUMMARY:KPJ Rijsbergen Trekkertrek - Zondag 6 juli (deel 2) evenement door organisatie afgemeld
DESCRIPTION:
URL:https://ehbo-zundert.nl/evenement/kpj-rijsbergen-trekkertrek-zondag-6-juli-deel-2/
LOCATION:Tiggeltsebergstraat\, Rijsbergen
END:VEVENT
BEGIN:VEVENT
DTSTART;TZID=Europe/Amsterdam:20250706T100000
DTEND;TZID=Europe/Amsterdam:20250706T143000
DTSTAMP:20260422T133632
CREATED:20250319T151811Z
LAST-MODIFIED:20250319T151811Z
UID:16732-1751796000-1751812200@ehbo-zundert.nl
SUMMARY:Boerendart - Zondag 6 juli (deel 1)
DESCRIPTION:
URL:https://ehbo-zundert.nl/evenement/boerendart-zondag-6-juli-deel-1/
LOCATION:CLTV Zundert\, Molenstraat 155\, Zundert
END:VEVENT
BEGIN:VEVENT
DTSTART;TZID=Europe/Amsterdam:20250706T100000
DTEND;TZID=Europe/Amsterdam:20250706T143000
DTSTAMP:20260422T133632
CREATED:20250318T110947Z
LAST-MODIFIED:20250704T190737Z
UID:16717-1751796000-1751812200@ehbo-zundert.nl
SUMMARY:KPJ Rijsbergen - Trekkertrek Zondag 6 juli 2025 (deel 1) evenement door organisatie afgemeld.
DESCRIPTION:
URL:https://ehbo-zundert.nl/evenement/kpj-rijsbergen-trekkertrek-zondag-6-juli-2025-deel-1/
LOCATION:Tiggeltsebergstraat\, Rijsbergen
END:VEVENT
BEGIN:VEVENT
DTSTART;TZID=Europe/Amsterdam:20250706T083000
DTEND;TZID=Europe/Amsterdam:20250706T133000
DTSTAMP:20260422T133632
CREATED:20250204T083903Z
LAST-MODIFIED:20250704T191516Z
UID:16550-1751790600-1751808600@ehbo-zundert.nl
SUMMARY:WTC Trappistentrappers - Zondag 6 juli 2025 in verband met geen opgave van hulpverleners heeft de secretaris het evenement afgemeld bij de organisatie
DESCRIPTION:
URL:https://ehbo-zundert.nl/evenement/wtc-trappistentrappers-zondag-7-juli/
LOCATION:Lentsebaan 1\, Lentsebaan 1\, Wernhout
END:VEVENT
BEGIN:VEVENT
DTSTART;TZID=Europe/Amsterdam:20250705T213000
DTEND;TZID=Europe/Amsterdam:20250706T020000
DTSTAMP:20260422T133632
CREATED:20250318T110233Z
LAST-MODIFIED:20250704T191035Z
UID:16715-1751751000-1751767200@ehbo-zundert.nl
SUMMARY:KPJ Rijsbergen - Trekkertrek Zaterdag 5 juli (deel 2) - evenement door organisatie afgemeld
DESCRIPTION:
URL:https://ehbo-zundert.nl/evenement/kpj-rijsbergen-trekkertrek-zaterdag-5-juli-deel-2/
LOCATION:Tiggeltsebergstraat\, Rijsbergen
END:VEVENT
BEGIN:VEVENT
DTSTART;TZID=Europe/Amsterdam:20250705T170000
DTEND;TZID=Europe/Amsterdam:20250705T213000
DTSTAMP:20260422T133632
CREATED:20250318T110025Z
LAST-MODIFIED:20250704T191351Z
UID:16712-1751734800-1751751000@ehbo-zundert.nl
SUMMARY:KPJ Rijsbergen - Trekkertrek Zaterdag 5 juli (deel 1) het evenement is door de organisatie afgemeld
DESCRIPTION:
URL:https://ehbo-zundert.nl/evenement/kpj-rijsbergen-trekkertrek-zaterdag-5-juli-deel-1/
LOCATION:Tiggeltsebergstraat\, Rijsbergen
END:VEVENT
BEGIN:VEVENT
DTSTART;TZID=Europe/Amsterdam:20250622T120000
DTEND;TZID=Europe/Amsterdam:20250622T170000
DTSTAMP:20260422T133632
CREATED:20250503T171008Z
LAST-MODIFIED:20250503T171008Z
UID:16777-1750593600-1750611600@ehbo-zundert.nl
SUMMARY:Rijsbergen Demareert - Zondag 22 juni (deel 2)
DESCRIPTION:
URL:https://ehbo-zundert.nl/evenement/rijsbergen-demareert-zondag-22-juni-deel-2/
LOCATION:’t Cafe\, St. Bavostraat 77\, Rijsbergen
END:VEVENT
BEGIN:VEVENT
DTSTART;TZID=Europe/Amsterdam:20250622T080000
DTEND;TZID=Europe/Amsterdam:20250622T120000
DTSTAMP:20260422T133632
CREATED:20250503T170143Z
LAST-MODIFIED:20250522T152121Z
UID:16773-1750579200-1750593600@ehbo-zundert.nl
SUMMARY:Rijsbergen Demareert - zondag 22 juni 2025 (deel 1)
DESCRIPTION:
URL:https://ehbo-zundert.nl/evenement/rijsbergen-demareert-zondag-22-juni-2025-deel-1/
LOCATION:St. Bavostraat 77\, Rijsbergen
END:VEVENT
BEGIN:VEVENT
DTSTART;TZID=Europe/Amsterdam:20250615T170000
DTEND;TZID=Europe/Amsterdam:20250615T203000
DTSTAMP:20260422T133632
CREATED:20250227T131112Z
LAST-MODIFIED:20250227T131112Z
UID:16621-1750006800-1750019400@ehbo-zundert.nl
SUMMARY:Aardbeienfeesten - Zondag 15 juni (deel 3)
DESCRIPTION:Braderie en Kermis \nCaravan aanwezig
URL:https://ehbo-zundert.nl/evenement/aardbeienfeesten-zondag-15-juni-deel-3/
LOCATION:Hoek Eikenlaan-Molenstraat\, Molenstraat\, Zundert\, Nederland
ORGANIZER;CN="Ad de Bruijn":MAILTO:info@aardbeienfeesten.nl
END:VEVENT
END:VCALENDAR