BEGIN:VCALENDAR
VERSION:2.0
PRODID:-//EHBO Zundert - ECPv6.15.20//NONSGML v1.0//EN
CALSCALE:GREGORIAN
METHOD:PUBLISH
X-WR-CALNAME:EHBO Zundert
X-ORIGINAL-URL:https://ehbo-zundert.nl
X-WR-CALDESC:Evenementen voor EHBO Zundert
REFRESH-INTERVAL;VALUE=DURATION:PT1H
X-Robots-Tag:noindex
X-PUBLISHED-TTL:PT1H
BEGIN:VTIMEZONE
TZID:Europe/Amsterdam
BEGIN:DAYLIGHT
TZOFFSETFROM:+0100
TZOFFSETTO:+0200
TZNAME:CEST
DTSTART:20230326T010000
END:DAYLIGHT
BEGIN:STANDARD
TZOFFSETFROM:+0200
TZOFFSETTO:+0100
TZNAME:CET
DTSTART:20231029T010000
END:STANDARD
BEGIN:DAYLIGHT
TZOFFSETFROM:+0100
TZOFFSETTO:+0200
TZNAME:CEST
DTSTART:20240331T010000
END:DAYLIGHT
BEGIN:STANDARD
TZOFFSETFROM:+0200
TZOFFSETTO:+0100
TZNAME:CET
DTSTART:20241027T010000
END:STANDARD
BEGIN:DAYLIGHT
TZOFFSETFROM:+0100
TZOFFSETTO:+0200
TZNAME:CEST
DTSTART:20250330T010000
END:DAYLIGHT
BEGIN:STANDARD
TZOFFSETFROM:+0200
TZOFFSETTO:+0100
TZNAME:CET
DTSTART:20251026T010000
END:STANDARD
END:VTIMEZONE
BEGIN:VEVENT
DTSTART;TZID=Europe/Amsterdam:20240714T133000
DTEND;TZID=Europe/Amsterdam:20240714T170000
DTSTAMP:20260422T174435
CREATED:20240502T112326Z
LAST-MODIFIED:20240502T112326Z
UID:13760-1720963800-1720976400@ehbo-zundert.nl
SUMMARY:BWF Ronde van Klein Zundert (deel 2)
DESCRIPTION:Wielerronde van de Brabantse Wielerfederatie
URL:https://ehbo-zundert.nl/evenement/bwf-ronde-van-klein-zundert-deel-2/
LOCATION:Pastoor van Vessemstraat 52a\, Zundert
END:VEVENT
BEGIN:VEVENT
DTSTART;TZID=Europe/Amsterdam:20240714T100000
DTEND;TZID=Europe/Amsterdam:20240714T133000
DTSTAMP:20260422T174435
CREATED:20240502T112146Z
LAST-MODIFIED:20240502T112146Z
UID:13758-1720951200-1720963800@ehbo-zundert.nl
SUMMARY:BWF Ronde van Klein Zundert (deel 1)
DESCRIPTION:Wielerronde van de Brabantse Wielerfederatie
URL:https://ehbo-zundert.nl/evenement/bwf-ronde-van-klein-zundert-deel-1/
LOCATION:Pastoor van Vessemstraat 52a\, Zundert
END:VEVENT
BEGIN:VEVENT
DTSTART;TZID=Europe/Amsterdam:20240713T183000
DTEND;TZID=Europe/Amsterdam:20240713T220000
DTSTAMP:20260422T174435
CREATED:20240317T133255Z
LAST-MODIFIED:20240317T133255Z
UID:12892-1720895400-1720908000@ehbo-zundert.nl
SUMMARY:Autorally Achtmaal - Zaterdag 13 juli (deel 3)
DESCRIPTION:Caravan aanwezig
URL:https://ehbo-zundert.nl/evenement/autorally-achtmaal-zaterdag-13-juli-deel-3/
LOCATION:Buntweg/Heiningenstraat\, Achtmaal
END:VEVENT
BEGIN:VEVENT
DTSTART;TZID=Europe/Amsterdam:20240713T143000
DTEND;TZID=Europe/Amsterdam:20240713T183000
DTSTAMP:20260422T174435
CREATED:20240317T133045Z
LAST-MODIFIED:20240317T133045Z
UID:12890-1720881000-1720895400@ehbo-zundert.nl
SUMMARY:Autorally Achtmaal - zaterdag 13 juli (deel 2)
DESCRIPTION:Caravan aanwezig
URL:https://ehbo-zundert.nl/evenement/autorally-achtmaal-zaterdag-13-juli-deel-2/
LOCATION:Buntweg/Heiningenstraat\, Achtmaal
END:VEVENT
BEGIN:VEVENT
DTSTART;TZID=Europe/Amsterdam:20240713T103000
DTEND;TZID=Europe/Amsterdam:20240713T143000
DTSTAMP:20260422T174435
CREATED:20240317T132849Z
LAST-MODIFIED:20240712T131534Z
UID:12888-1720866600-1720881000@ehbo-zundert.nl
SUMMARY:Autorally Achtmaal - Zaterdag 13 juli (deel 1)
DESCRIPTION:Caravan aanwezig
URL:https://ehbo-zundert.nl/evenement/autorally-achtmaal-zaterdag-13-juli-deel-1/
LOCATION:Buntweg/Heiningenstraat\, Achtmaal
END:VEVENT
BEGIN:VEVENT
DTSTART;TZID=Europe/Amsterdam:20240712T203000
DTEND;TZID=Europe/Amsterdam:20240713T000000
DTSTAMP:20260422T174435
CREATED:20240317T132648Z
LAST-MODIFIED:20240317T132648Z
UID:12886-1720816200-1720828800@ehbo-zundert.nl
SUMMARY:Autorally Achtmaal - Vrijdag 12 juli (deel 3)
DESCRIPTION:Caravan aanwezig
URL:https://ehbo-zundert.nl/evenement/autorally-achtmaal-vrijdag-12-juli-deel-3/
LOCATION:Buntweg/Heiningenstraat\, Achtmaal
END:VEVENT
BEGIN:VEVENT
DTSTART;TZID=Europe/Amsterdam:20240712T170000
DTEND;TZID=Europe/Amsterdam:20240712T203000
DTSTAMP:20260422T174435
CREATED:20240317T132404Z
LAST-MODIFIED:20240317T132404Z
UID:12884-1720803600-1720816200@ehbo-zundert.nl
SUMMARY:Autorally Achtmaal - Vrijdag 13 juli (deel 2)
DESCRIPTION:Caravan aanwezig
URL:https://ehbo-zundert.nl/evenement/autorally-achtmaal-vrijdag-13-juli-deel-2/
LOCATION:Buntweg/Heiningenstraat\, Achtmaal
END:VEVENT
BEGIN:VEVENT
DTSTART;TZID=Europe/Amsterdam:20240712T130000
DTEND;TZID=Europe/Amsterdam:20240712T170000
DTSTAMP:20260422T174435
CREATED:20240317T132109Z
LAST-MODIFIED:20240317T132207Z
UID:12880-1720789200-1720803600@ehbo-zundert.nl
SUMMARY:Autorally Achtmaal - Vrijdag 12 juli (deel 1)
DESCRIPTION:Caravan aanwezig
URL:https://ehbo-zundert.nl/evenement/autorally-achtmaal/
LOCATION:Buntweg/Heiningenstraat\, Achtmaal
END:VEVENT
BEGIN:VEVENT
DTSTART;TZID=Europe/Amsterdam:20240707T143000
DTEND;TZID=Europe/Amsterdam:20240707T190000
DTSTAMP:20260422T174435
CREATED:20240410T120334Z
LAST-MODIFIED:20240410T120334Z
UID:13255-1720362600-1720378800@ehbo-zundert.nl
SUMMARY:Boerendart Buurtschap Veldstraat - zondag 7 juli (deel 2)
DESCRIPTION:
URL:https://ehbo-zundert.nl/evenement/boerendart-buurtschap-veldstraat-zondag-7-juli-deel-2/
LOCATION:CLTV Zundert\, Molenstraat 155\, Zundert
END:VEVENT
BEGIN:VEVENT
DTSTART;TZID=Europe/Amsterdam:20240707T100000
DTEND;TZID=Europe/Amsterdam:20240707T143000
DTSTAMP:20260422T174435
CREATED:20240410T120201Z
LAST-MODIFIED:20240410T120201Z
UID:13253-1720346400-1720362600@ehbo-zundert.nl
SUMMARY:Boerendart - Buurtschap Veldstraat  Zondag 7 juli (deel 1)
DESCRIPTION:
URL:https://ehbo-zundert.nl/evenement/boerendart-buurtschap-veldstraat-zondag-7-juli-deel-1/
LOCATION:CLTV Zundert\, Molenstraat 155\, Zundert
END:VEVENT
BEGIN:VEVENT
DTSTART;TZID=Europe/Amsterdam:20240707T083000
DTEND;TZID=Europe/Amsterdam:20240707T133000
DTSTAMP:20260422T174435
CREATED:20240502T112709Z
LAST-MODIFIED:20240602T125318Z
UID:13762-1720341000-1720359000@ehbo-zundert.nl
SUMMARY:Tijdrit WTC de Trappistentrappers
DESCRIPTION:Tijdrit in Wernhout Start en Finish is bij NL Plants
URL:https://ehbo-zundert.nl/evenement/tijdrit-wtc-de-trappistentrappers/
LOCATION:Lentsebaan 1\, Lentsebaan 1\, Wernhout
ORGANIZER;CN="Jasper van der Kloof":MAILTO:trappistentrappers@ziggo.nl
END:VEVENT
BEGIN:VEVENT
DTSTART;TZID=Europe/Amsterdam:20240630T143000
DTEND;TZID=Europe/Amsterdam:20240630T190000
DTSTAMP:20260422T174435
CREATED:20240115T143443Z
LAST-MODIFIED:20240115T143443Z
UID:11727-1719757800-1719774000@ehbo-zundert.nl
SUMMARY:Corso zonder Grenzen - Buurtschap Klein Zundert (deel 2)
DESCRIPTION:Zeskampspel
URL:https://ehbo-zundert.nl/evenement/corso-zonder-grenzen-buurtschap-klein-zundert-deel-2/
LOCATION:Corsohûske\, Past. van Vessemstraat 48\, Zundert
END:VEVENT
BEGIN:VEVENT
DTSTART;TZID=Europe/Amsterdam:20240630T130000
DTEND;TZID=Europe/Amsterdam:20240630T170000
DTSTAMP:20260422T174435
CREATED:20240317T131131Z
LAST-MODIFIED:20240317T131131Z
UID:12878-1719752400-1719766800@ehbo-zundert.nl
SUMMARY:Charles met d'n Bolle Kant - ZHC Zondag 30 juni
DESCRIPTION:Hockeytoernooi waarmee de stick op een andere manier vast wordt gehouden als normaal.
URL:https://ehbo-zundert.nl/evenement/charles-met-dn-bolle-kant-zhc-zondag-30-juni/
LOCATION:Sportparkt de Wildert\, Wildertsedijk\, Zundert\, Nederland
END:VEVENT
BEGIN:VEVENT
DTSTART;TZID=Europe/Amsterdam:20240630T100000
DTEND;TZID=Europe/Amsterdam:20240630T143000
DTSTAMP:20260422T174435
CREATED:20240115T143248Z
LAST-MODIFIED:20240115T143248Z
UID:11725-1719741600-1719757800@ehbo-zundert.nl
SUMMARY:Corso Zonder Grenzen - Buurtschap Klein Zundert (deel 1)
DESCRIPTION:Zeskamp spel
URL:https://ehbo-zundert.nl/evenement/corso-zonder-grenzen-buurtschap-klein-zundert-deel-1/
LOCATION:Corsohûske\, Past. van Vessemstraat 48\, Zundert
END:VEVENT
BEGIN:VEVENT
DTSTART;TZID=Europe/Amsterdam:20240629T130000
DTEND;TZID=Europe/Amsterdam:20240629T160000
DTSTAMP:20260422T174435
CREATED:20240317T130749Z
LAST-MODIFIED:20240317T130749Z
UID:12876-1719666000-1719676800@ehbo-zundert.nl
SUMMARY:Charles met d'n Bolle Kant  - ZHC zaterdag 29 juni (deel 2)
DESCRIPTION:Hockeytoernooi waarmee de stick op een andere manier vast wordt gehouden als normaal.
URL:https://ehbo-zundert.nl/evenement/charles-met-dn-bolle-kant-zhc-zaterdag-29-juni-deel-2/
LOCATION:Sportparkt de Wildert\, Wildertsedijk\, Zundert\, Nederland
END:VEVENT
BEGIN:VEVENT
DTSTART;TZID=Europe/Amsterdam:20240629T100000
DTEND;TZID=Europe/Amsterdam:20240629T130000
DTSTAMP:20260422T174435
CREATED:20240317T130541Z
LAST-MODIFIED:20240317T130541Z
UID:12874-1719655200-1719666000@ehbo-zundert.nl
SUMMARY:Charles met d'n Bolle Kant - ZHC zaterdag 29 juni (deel 1)
DESCRIPTION:Hockeytoernooi waarmee de stick op een andere manier vast wordt gehouden als normaal.
URL:https://ehbo-zundert.nl/evenement/charles-met-dn-bolle-kant-zhc-zaterdag-29-juni-deel-1/
LOCATION:Sportparkt de Wildert\, Wildertsedijk\, Zundert\, Nederland
END:VEVENT
BEGIN:VEVENT
DTSTART;TZID=Europe/Amsterdam:20240627T120000
DTEND;TZID=Europe/Amsterdam:20240627T170000
DTSTAMP:20260422T174435
CREATED:20240423T123719Z
LAST-MODIFIED:20240423T123751Z
UID:13425-1719489600-1719507600@ehbo-zundert.nl
SUMMARY:Treeport Zundert - Techniekdag Boomteelt
DESCRIPTION:Bijeenkomst van ongeveer 200 bezoekers .  Het evenement vindt voornamelijk in de openlucht plaats. \n 
URL:https://ehbo-zundert.nl/evenement/treeport-zundert-techniekdag-boomteelt/
LOCATION:Waaijenbergstraat 21a\, Waaijenbergstraat 21a\, Zundert
END:VEVENT
BEGIN:VEVENT
DTSTART;TZID=Europe/Amsterdam:20240623T160000
DTEND;TZID=Europe/Amsterdam:20240623T190000
DTSTAMP:20260422T174435
CREATED:20240507T094652Z
LAST-MODIFIED:20240507T094652Z
UID:13854-1719158400-1719169200@ehbo-zundert.nl
SUMMARY:Rijsbergen Demareert - Zondag 23 juni (deel 3)
DESCRIPTION:
URL:https://ehbo-zundert.nl/evenement/rijsbergen-demareert-zondag-23-juni-deel-3/
LOCATION:Sportpark De Laguiten\, Rijsbergen
END:VEVENT
BEGIN:VEVENT
DTSTART;TZID=Europe/Amsterdam:20240623T150000
DTEND;TZID=Europe/Amsterdam:20240623T180000
DTSTAMP:20260422T174435
CREATED:20240605T095655Z
LAST-MODIFIED:20240605T095655Z
UID:14114-1719154800-1719165600@ehbo-zundert.nl
SUMMARY:Ostaayse Kermis - Zondag 23 juni (deel 2)
DESCRIPTION:Bubble voetbal
URL:https://ehbo-zundert.nl/evenement/ostaayse-kermis-zondag-23-juni-deel-2/
LOCATION:Blokenstraat Achtmaal
ORGANIZER;CN="Stefan Smits":MAILTO:vwostaayenseboys@hotmail.nl
END:VEVENT
BEGIN:VEVENT
DTSTART;TZID=Europe/Amsterdam:20240623T120000
DTEND;TZID=Europe/Amsterdam:20240623T160000
DTSTAMP:20260422T174435
CREATED:20240507T094511Z
LAST-MODIFIED:20240507T094511Z
UID:13852-1719144000-1719158400@ehbo-zundert.nl
SUMMARY:Rijsbergen Demareert  Zondag 23 juni (deel 2)
DESCRIPTION:
URL:https://ehbo-zundert.nl/evenement/rijsbergen-demareert-zondag-23-juni-deel-2/
LOCATION:Sportpark De Laguiten\, Rijsbergen
END:VEVENT
BEGIN:VEVENT
DTSTART;TZID=Europe/Amsterdam:20240623T120000
DTEND;TZID=Europe/Amsterdam:20240623T150000
DTSTAMP:20260422T174435
CREATED:20240605T095427Z
LAST-MODIFIED:20240605T095427Z
UID:14112-1719144000-1719154800@ehbo-zundert.nl
SUMMARY:Ostaayse Kermis - Zondag 23 juni (deel 1)
DESCRIPTION:Bubble voetbal
URL:https://ehbo-zundert.nl/evenement/ostaayse-kermis-zondag-23-juni-deel-1/
LOCATION:Blokenstraat Achtmaal
ORGANIZER;CN="Stefan Smits":MAILTO:vwostaayenseboys@hotmail.nl
END:VEVENT
BEGIN:VEVENT
DTSTART;TZID=Europe/Amsterdam:20240623T080000
DTEND;TZID=Europe/Amsterdam:20240623T120000
DTSTAMP:20260422T174435
CREATED:20240507T094330Z
LAST-MODIFIED:20240507T094330Z
UID:13850-1719129600-1719144000@ehbo-zundert.nl
SUMMARY:Rijsbergen Demareert - Zondag 23 juni (deel 1)
DESCRIPTION:
URL:https://ehbo-zundert.nl/evenement/rijsbergen-demareert-zondag-23-juni-deel-1/
LOCATION:Sportpark De Laguiten\, Rijsbergen
END:VEVENT
BEGIN:VEVENT
DTSTART;TZID=Europe/Amsterdam:20240622T210000
DTEND;TZID=Europe/Amsterdam:20240623T010000
DTSTAMP:20260422T174435
CREATED:20240605T095019Z
LAST-MODIFIED:20240605T095019Z
UID:14110-1719090000-1719104400@ehbo-zundert.nl
SUMMARY:Ostaayse Kermis - Zaterdag 22 juni 2024
DESCRIPTION:Tentfeest
URL:https://ehbo-zundert.nl/evenement/ostaayse-kermis-zaterdag-22-juni-2024/
ORGANIZER;CN="Stefan Smits":MAILTO:vwostaayenseboys@hotmail.nl
END:VEVENT
BEGIN:VEVENT
DTSTART;TZID=Europe/Amsterdam:20240621T210000
DTEND;TZID=Europe/Amsterdam:20240622T000000
DTSTAMP:20260422T174435
CREATED:20240605T094838Z
LAST-MODIFIED:20240605T094838Z
UID:14108-1719003600-1719014400@ehbo-zundert.nl
SUMMARY:Ostaayse Kermis - Vrijdag 21 juni 2024
DESCRIPTION:Tentfeest
URL:https://ehbo-zundert.nl/evenement/ostaayse-kermis-vrijdag-21-juni-2024/
LOCATION:Blokenstraat Achtmaal
ORGANIZER;CN="Stefan Smits":MAILTO:vwostaayenseboys@hotmail.nl
END:VEVENT
BEGIN:VEVENT
DTSTART;TZID=Europe/Amsterdam:20240616T103000
DTEND;TZID=Europe/Amsterdam:20240616T150000
DTSTAMP:20260422T174435
CREATED:20240306T120752Z
LAST-MODIFIED:20240306T122630Z
UID:12731-1718533800-1718550000@ehbo-zundert.nl
SUMMARY:Sint Bavoloop
DESCRIPTION:Jaarlijkse hardloopwedstrijd\, rollatorrun\, kinderloop en de afstanden van 2\,5 – 5 en 10 km. \n 
URL:https://ehbo-zundert.nl/evenement/sint-bavoloop-2/
LOCATION:Lindekesplein
END:VEVENT
BEGIN:VEVENT
DTSTART;TZID=Europe/Amsterdam:20240615T113000
DTEND;TZID=Europe/Amsterdam:20240615T143000
DTSTAMP:20260422T174435
CREATED:20240117T134901Z
LAST-MODIFIED:20240117T134901Z
UID:11791-1718451000-1718461800@ehbo-zundert.nl
SUMMARY:Kennedymars (deel 5)
DESCRIPTION:Wandelevenement
URL:https://ehbo-zundert.nl/evenement/kennedymars-deel-5-2/
LOCATION:Koutershof\, Koutershof\, Rijsbergen\, 4891 CV
END:VEVENT
BEGIN:VEVENT
DTSTART;TZID=Europe/Amsterdam:20240615T073000
DTEND;TZID=Europe/Amsterdam:20240615T113000
DTSTAMP:20260422T174435
CREATED:20240117T134300Z
LAST-MODIFIED:20240117T134300Z
UID:11789-1718436600-1718451000@ehbo-zundert.nl
SUMMARY:Kennedymars (deel 4)
DESCRIPTION:Wandelevenement
URL:https://ehbo-zundert.nl/evenement/kennedymars-deel-4-2/
LOCATION:Koutershof\, Koutershof\, Rijsbergen\, 4891 CV
END:VEVENT
BEGIN:VEVENT
DTSTART;TZID=Europe/Amsterdam:20240615T033000
DTEND;TZID=Europe/Amsterdam:20240615T073000
DTSTAMP:20260422T174435
CREATED:20240117T134042Z
LAST-MODIFIED:20240117T134042Z
UID:11787-1718422200-1718436600@ehbo-zundert.nl
SUMMARY:Kennedymars (deel 3 )
DESCRIPTION:Wandelevenement
URL:https://ehbo-zundert.nl/evenement/kennedymars-deel-3-2/
LOCATION:Koutershof\, Koutershof\, Rijsbergen\, 4891 CV
END:VEVENT
BEGIN:VEVENT
DTSTART;TZID=Europe/Amsterdam:20240615T000000
DTEND;TZID=Europe/Amsterdam:20240615T033000
DTSTAMP:20260422T174435
CREATED:20240117T133840Z
LAST-MODIFIED:20240117T133840Z
UID:11785-1718409600-1718422200@ehbo-zundert.nl
SUMMARY:Kennedymars (deel 2)
DESCRIPTION:Wandelevenement
URL:https://ehbo-zundert.nl/evenement/kennedymars-deel-2-2/
LOCATION:Koutershof\, Koutershof\, Rijsbergen\, 4891 CV
END:VEVENT
BEGIN:VEVENT
DTSTART;TZID=Europe/Amsterdam:20240614T200000
DTEND;TZID=Europe/Amsterdam:20240615T000000
DTSTAMP:20260422T174435
CREATED:20240117T133321Z
LAST-MODIFIED:20240117T133338Z
UID:11782-1718395200-1718409600@ehbo-zundert.nl
SUMMARY:Kennedymars (deel 1)
DESCRIPTION:Wandelevenement
URL:https://ehbo-zundert.nl/evenement/kennedymars-deel-1-2/
LOCATION:Koutershof\, Koutershof\, Rijsbergen\, 4891 CV
END:VEVENT
END:VCALENDAR