BEGIN:VCALENDAR
VERSION:2.0
PRODID:-//EHBO Zundert - ECPv6.15.20//NONSGML v1.0//EN
CALSCALE:GREGORIAN
METHOD:PUBLISH
X-WR-CALNAME:EHBO Zundert
X-ORIGINAL-URL:https://ehbo-zundert.nl
X-WR-CALDESC:Evenementen voor EHBO Zundert
REFRESH-INTERVAL;VALUE=DURATION:PT1H
X-Robots-Tag:noindex
X-PUBLISHED-TTL:PT1H
BEGIN:VTIMEZONE
TZID:Europe/Amsterdam
BEGIN:DAYLIGHT
TZOFFSETFROM:+0100
TZOFFSETTO:+0200
TZNAME:CEST
DTSTART:20220327T010000
END:DAYLIGHT
BEGIN:STANDARD
TZOFFSETFROM:+0200
TZOFFSETTO:+0100
TZNAME:CET
DTSTART:20221030T010000
END:STANDARD
BEGIN:DAYLIGHT
TZOFFSETFROM:+0100
TZOFFSETTO:+0200
TZNAME:CEST
DTSTART:20230326T010000
END:DAYLIGHT
BEGIN:STANDARD
TZOFFSETFROM:+0200
TZOFFSETTO:+0100
TZNAME:CET
DTSTART:20231029T010000
END:STANDARD
BEGIN:DAYLIGHT
TZOFFSETFROM:+0100
TZOFFSETTO:+0200
TZNAME:CEST
DTSTART:20240331T010000
END:DAYLIGHT
BEGIN:STANDARD
TZOFFSETFROM:+0200
TZOFFSETTO:+0100
TZNAME:CET
DTSTART:20241027T010000
END:STANDARD
END:VTIMEZONE
BEGIN:VEVENT
DTSTART;TZID=Europe/Amsterdam:20230910T130000
DTEND;TZID=Europe/Amsterdam:20230910T160000
DTSTAMP:20260422T200948
CREATED:20230222T143428Z
LAST-MODIFIED:20230222T143428Z
UID:9540-1694350800-1694361600@ehbo-zundert.nl
SUMMARY:Dorpsfeest Achtmaal
DESCRIPTION:
URL:https://ehbo-zundert.nl/evenement/dorpsfeest-achtmaal-4/
LOCATION:MFA Achtmaal
END:VEVENT
BEGIN:VEVENT
DTSTART;TZID=Europe/Amsterdam:20230905T190000
DTEND;TZID=Europe/Amsterdam:20230905T220000
DTSTAMP:20260422T200948
CREATED:20230608T140753Z
LAST-MODIFIED:20230608T140753Z
UID:10064-1693940400-1693951200@ehbo-zundert.nl
SUMMARY:Bloemencorso Zundert - Dinsdag 5 september (deel 4)
DESCRIPTION:Afbreken van de wagens \ncaravan aanwezig
URL:https://ehbo-zundert.nl/evenement/bloemencorso-zundert-dinsdag-5-september-deel-4/
LOCATION:CLTV Zundert\, Molenstraat 155\, Zundert
END:VEVENT
BEGIN:VEVENT
DTSTART;TZID=Europe/Amsterdam:20230905T150000
DTEND;TZID=Europe/Amsterdam:20230905T190000
DTSTAMP:20260422T200948
CREATED:20230608T140620Z
LAST-MODIFIED:20230608T140635Z
UID:10061-1693926000-1693940400@ehbo-zundert.nl
SUMMARY:Bloemencorso Zundert - Dinsdag 5 september (deel 3)
DESCRIPTION:Afbreken van de wagens \ncaravan aanwezig
URL:https://ehbo-zundert.nl/evenement/bloemencorso-zundert-dinsdag-5-september/
LOCATION:CLTV Zundert\, Molenstraat 155\, Zundert
END:VEVENT
BEGIN:VEVENT
DTSTART;TZID=Europe/Amsterdam:20230905T110000
DTEND;TZID=Europe/Amsterdam:20230905T150000
DTSTAMP:20260422T200948
CREATED:20230608T140228Z
LAST-MODIFIED:20230608T140228Z
UID:10059-1693911600-1693926000@ehbo-zundert.nl
SUMMARY:Bloemencorso Zundert - dinsdag 5 september (deel 2)
DESCRIPTION:Afbreken wagens \ncaravan aanwezig
URL:https://ehbo-zundert.nl/evenement/bloemencorso-zundert-dinsdag-5-september-deel-2/
LOCATION:CLTV Zundert\, Molenstraat 155\, Zundert
END:VEVENT
BEGIN:VEVENT
DTSTART;TZID=Europe/Amsterdam:20230905T070000
DTEND;TZID=Europe/Amsterdam:20230905T110000
DTSTAMP:20260422T200948
CREATED:20230609T112237Z
LAST-MODIFIED:20230609T112237Z
UID:10071-1693897200-1693911600@ehbo-zundert.nl
SUMMARY:Bloemencorso Zundert - Dinsdag 5 september (deel 1)
DESCRIPTION:Afbreken van de wagens \nCaravan aanwezig
URL:https://ehbo-zundert.nl/evenement/bloemencorso-zundert-dinsdag-5-september-deel-1-2/
LOCATION:CLTV Zundert\, Molenstraat 155\, Zundert
END:VEVENT
BEGIN:VEVENT
DTSTART;TZID=Europe/Amsterdam:20230904T180000
DTEND;TZID=Europe/Amsterdam:20230904T220000
DTSTAMP:20260422T200948
CREATED:20230608T135428Z
LAST-MODIFIED:20230608T135428Z
UID:10051-1693850400-1693864800@ehbo-zundert.nl
SUMMARY:Bloemencorso Zundert - maandag 4 september  CLTV veiling (deel 3)
DESCRIPTION:
URL:https://ehbo-zundert.nl/evenement/bloemencorso-zundert-maandag-4-september-cltv-veiling-deel-3/
LOCATION:CLTV Zundert\, Molenstraat 155\, Zundert
END:VEVENT
BEGIN:VEVENT
DTSTART;TZID=Europe/Amsterdam:20230904T130000
DTEND;TZID=Europe/Amsterdam:20230904T190000
DTSTAMP:20260422T200948
CREATED:20230608T135925Z
LAST-MODIFIED:20230823T131354Z
UID:10055-1693832400-1693854000@ehbo-zundert.nl
SUMMARY:Bloemencorso Zundert - maandag 4 september hoek Eikenlaan-Molenstraat (deel 2)
DESCRIPTION:
URL:https://ehbo-zundert.nl/evenement/bloemencorso-zundert-maandag-4-september-hoek-eikenlaan-molenstraat-deel-2/
LOCATION:Hoek Eikenlaan-Molenstraat\, Molenstraat\, Zundert\, Nederland
END:VEVENT
BEGIN:VEVENT
DTSTART;TZID=Europe/Amsterdam:20230904T120000
DTEND;TZID=Europe/Amsterdam:20230904T180000
DTSTAMP:20260422T200948
CREATED:20230608T134931Z
LAST-MODIFIED:20230608T134931Z
UID:10049-1693828800-1693850400@ehbo-zundert.nl
SUMMARY:Bloemencorso Zundert - maandag 4 september CLTV terrein (deel 2)
DESCRIPTION:
URL:https://ehbo-zundert.nl/evenement/bloemencorso-zundert-maandag-4-september-cltv-terrein-deel-2/
LOCATION:CLTV Zundert\, Molenstraat 155\, Zundert
END:VEVENT
BEGIN:VEVENT
DTSTART;TZID=Europe/Amsterdam:20230904T090000
DTEND;TZID=Europe/Amsterdam:20230904T130000
DTSTAMP:20260422T200948
CREATED:20230608T135751Z
LAST-MODIFIED:20230609T111908Z
UID:10053-1693818000-1693832400@ehbo-zundert.nl
SUMMARY:Bloemencorso Zundert - maandag 4 september Hoek Molenstraat - Eikenlaan (deel 1)
DESCRIPTION:Caravan
URL:https://ehbo-zundert.nl/evenement/bloemencorso-zundert-maandag-4-september-hoek-molenstraat-eikenlaan-deel-1/
LOCATION:Hoek Eikenlaan-Molenstraat\, Molenstraat\, Zundert\, Nederland
END:VEVENT
BEGIN:VEVENT
DTSTART;TZID=Europe/Amsterdam:20230904T080000
DTEND;TZID=Europe/Amsterdam:20230904T120000
DTSTAMP:20260422T200948
CREATED:20230608T134744Z
LAST-MODIFIED:20230608T134744Z
UID:10047-1693814400-1693828800@ehbo-zundert.nl
SUMMARY:Bloemencorso Zundert - maandag 4 september - CLTV Terrein (deel 1)
DESCRIPTION:
URL:https://ehbo-zundert.nl/evenement/bloemencorso-zundert-maandag-4-september-cltv-terrein-deel-1/
LOCATION:CLTV Zundert\, Molenstraat 155\, Zundert
END:VEVENT
BEGIN:VEVENT
DTSTART;TZID=Europe/Amsterdam:20230903T180000
DTEND;TZID=Europe/Amsterdam:20230903T220000
DTSTAMP:20260422T200948
CREATED:20230608T133525Z
LAST-MODIFIED:20230828T130332Z
UID:10041-1693764000-1693778400@ehbo-zundert.nl
SUMMARY:Bloemencorso Zundert - Zondag 3 september CLTV veiling (deel 3)
DESCRIPTION:
URL:https://ehbo-zundert.nl/evenement/bloemencorso-zundert-zondag-3-september-cltv-veiling-deel-3/
LOCATION:CLTV Zundert\, Molenstraat 155\, Zundert
END:VEVENT
BEGIN:VEVENT
DTSTART;TZID=Europe/Amsterdam:20230903T130000
DTEND;TZID=Europe/Amsterdam:20230903T190000
DTSTAMP:20260422T200948
CREATED:20230608T133917Z
LAST-MODIFIED:20230608T133917Z
UID:10045-1693746000-1693767600@ehbo-zundert.nl
SUMMARY:Bloemencorso Zundert - Zondag 3 september - locatie Welborg (deel 2)
DESCRIPTION:Caravan aanwezig
URL:https://ehbo-zundert.nl/evenement/bloemencorso-zundert-zondag-3-september-locatie-welborg-deel-2/
LOCATION:Nassauplein
END:VEVENT
BEGIN:VEVENT
DTSTART;TZID=Europe/Amsterdam:20230903T120000
DTEND;TZID=Europe/Amsterdam:20230903T180000
DTSTAMP:20260422T200948
CREATED:20230608T133232Z
LAST-MODIFIED:20230815T083407Z
UID:10039-1693742400-1693764000@ehbo-zundert.nl
SUMMARY:Bloemencorso Zundert - Zondag 3 september CLTV terrein (deel 2)
DESCRIPTION:
URL:https://ehbo-zundert.nl/evenement/bloemencorso-zundert-zondag-3-september-cltv-terrein-deel-2/
LOCATION:CLTV Zundert\, Molenstraat 155\, Zundert
END:VEVENT
BEGIN:VEVENT
DTSTART;TZID=Europe/Amsterdam:20230903T080000
DTEND;TZID=Europe/Amsterdam:20230903T130000
DTSTAMP:20260422T200948
CREATED:20230608T133711Z
LAST-MODIFIED:20230608T133711Z
UID:10043-1693728000-1693746000@ehbo-zundert.nl
SUMMARY:Bloemencorso Zundert - zondag 3 september Welborg (deel 1)
DESCRIPTION:
URL:https://ehbo-zundert.nl/evenement/bloemencorso-zundert-zondag-3-september-welborg-deel-1/
LOCATION:Nassauplein
END:VEVENT
BEGIN:VEVENT
DTSTART;TZID=Europe/Amsterdam:20230903T080000
DTEND;TZID=Europe/Amsterdam:20230903T120000
DTSTAMP:20260422T200948
CREATED:20230608T133108Z
LAST-MODIFIED:20230815T082453Z
UID:10037-1693728000-1693742400@ehbo-zundert.nl
SUMMARY:Bloemencorso Zundert - Zondag 3 september - CLTV terrein (deel 1)
DESCRIPTION:
URL:https://ehbo-zundert.nl/evenement/bloemencorso-zundert-zondag-3-september-cltv-terrein-deel-1/
LOCATION:CLTV Zundert\, Molenstraat 155\, Zundert
END:VEVENT
BEGIN:VEVENT
DTSTART;TZID=Europe/Amsterdam:20230820T140000
DTEND;TZID=Europe/Amsterdam:20230820T180000
DTSTAMP:20260422T200948
CREATED:20230601T081257Z
LAST-MODIFIED:20230601T081257Z
UID:10029-1692540000-1692554400@ehbo-zundert.nl
SUMMARY:Rijsbergse Vliegerdagen - zondag 20 augustus (deel 2)
DESCRIPTION:
URL:https://ehbo-zundert.nl/evenement/rijsbergse-vliegerdagen-zondag-20-augustus-deel-2/
LOCATION:Café Buitenlust\, Tiggeltsestraat\, Rijsbergen
END:VEVENT
BEGIN:VEVENT
DTSTART;TZID=Europe/Amsterdam:20230820T100000
DTEND;TZID=Europe/Amsterdam:20230820T140000
DTSTAMP:20260422T200948
CREATED:20230628T074611Z
LAST-MODIFIED:20230628T074611Z
UID:10106-1692525600-1692540000@ehbo-zundert.nl
SUMMARY:Dahlia Wandeltocht
DESCRIPTION:Wandelen over diverse dahliavelden
URL:https://ehbo-zundert.nl/evenement/dahlia-wandeltocht-3/
LOCATION:Pastoor van Vessemstraat 65\, Pastoor van Vessemstraat 65\, Zundert
END:VEVENT
BEGIN:VEVENT
DTSTART;TZID=Europe/Amsterdam:20230820T100000
DTEND;TZID=Europe/Amsterdam:20230820T140000
DTSTAMP:20260422T200948
CREATED:20230601T081111Z
LAST-MODIFIED:20230601T081111Z
UID:10027-1692525600-1692540000@ehbo-zundert.nl
SUMMARY:Rijsbergse Vliegerdagen - zondag 20 augustus (deel 1)
DESCRIPTION:
URL:https://ehbo-zundert.nl/evenement/rijsbergse-vliegerdagen-zondag-20-augustus-deel-1/
LOCATION:Café Buitenlust\, Tiggeltsestraat\, Rijsbergen
END:VEVENT
BEGIN:VEVENT
DTSTART;TZID=Europe/Amsterdam:20230819T203000
DTEND;TZID=Europe/Amsterdam:20230820T000000
DTSTAMP:20260422T200948
CREATED:20230517T134923Z
LAST-MODIFIED:20230517T134923Z
UID:9978-1692477000-1692489600@ehbo-zundert.nl
SUMMARY:Rijsbergse Vliegerdagen - Zaterdag 19 augustus (deel 4)
DESCRIPTION:
URL:https://ehbo-zundert.nl/evenement/rijsbergse-vliegerdagen-zaterdag-19-augustus-deel-4/
LOCATION:Café Buitenlust\, Tiggeltsestraat\, Rijsbergen
END:VEVENT
BEGIN:VEVENT
DTSTART;TZID=Europe/Amsterdam:20230819T173000
DTEND;TZID=Europe/Amsterdam:20230819T203000
DTSTAMP:20260422T200948
CREATED:20230517T134735Z
LAST-MODIFIED:20230517T134735Z
UID:9976-1692466200-1692477000@ehbo-zundert.nl
SUMMARY:Rijsbergse Vliegerdagen - zaterdag 19 augustus (deel 3)
DESCRIPTION:
URL:https://ehbo-zundert.nl/evenement/rijsbergse-vliegerdagen-zaterdag-19-augustus-deel-3/
LOCATION:Café Buitenlust\, Tiggeltsestraat\, Rijsbergen
END:VEVENT
BEGIN:VEVENT
DTSTART;TZID=Europe/Amsterdam:20230819T133000
DTEND;TZID=Europe/Amsterdam:20230819T173000
DTSTAMP:20260422T200948
CREATED:20230517T134523Z
LAST-MODIFIED:20230517T134523Z
UID:9974-1692451800-1692466200@ehbo-zundert.nl
SUMMARY:Rijsbergse vliegerdagen - zaterdag 19 augustus (deel 2)
DESCRIPTION:
URL:https://ehbo-zundert.nl/evenement/rijsbergse-vliegerdagen-zaterdag-19-augustus-deel-2/
LOCATION:Café Buitenlust\, Tiggeltsestraat\, Rijsbergen
END:VEVENT
BEGIN:VEVENT
DTSTART;TZID=Europe/Amsterdam:20230819T100000
DTEND;TZID=Europe/Amsterdam:20230819T133000
DTSTAMP:20260422T200948
CREATED:20230517T133410Z
LAST-MODIFIED:20230517T134546Z
UID:9971-1692439200-1692451800@ehbo-zundert.nl
SUMMARY:Rijsbergse Vliegerdagen - Zaterdag 19 augustus (deel 1)
DESCRIPTION:
URL:https://ehbo-zundert.nl/evenement/rijsbergse-vliegerdagen/
LOCATION:Café Buitenlust\, Tiggeltsestraat\, Rijsbergen
END:VEVENT
BEGIN:VEVENT
DTSTART;TZID=Europe/Amsterdam:20230806T180000
DTEND;TZID=Europe/Amsterdam:20230806T230000
DTSTAMP:20260422T200948
CREATED:20230208T132303Z
LAST-MODIFIED:20230627T124308Z
UID:9473-1691344800-1691362800@ehbo-zundert.nl
SUMMARY:KPJ Rijsbergen - Hollandse middag/avond (deel2)
DESCRIPTION:
URL:https://ehbo-zundert.nl/evenement/kpj-rijsbergen-zeskamp-deel2/
LOCATION:Tiggeltsebergstraat\, Rijsbergen
ORGANIZER;CN="Lieke Bastiaansen":MAILTO:liekebastiaansen@gmail.com
END:VEVENT
BEGIN:VEVENT
DTSTART;TZID=Europe/Amsterdam:20230806T140000
DTEND;TZID=Europe/Amsterdam:20230806T180000
DTSTAMP:20260422T200948
CREATED:20230208T132059Z
LAST-MODIFIED:20230627T124417Z
UID:9470-1691330400-1691344800@ehbo-zundert.nl
SUMMARY:KPJ Rijsbergen - Hollandse middag/avond  (deel1)
DESCRIPTION:
URL:https://ehbo-zundert.nl/evenement/kpj-rijsbergen-zeskamp/
LOCATION:Tiggeltsebergstraat\, Rijsbergen
ORGANIZER;CN="Lieke Bastiaansen":MAILTO:liekebastiaansen@gmail.com
END:VEVENT
BEGIN:VEVENT
DTSTART;TZID=Europe/Amsterdam:20230805T200000
DTEND;TZID=Europe/Amsterdam:20230806T010000
DTSTAMP:20260422T200948
CREATED:20230208T131922Z
LAST-MODIFIED:20230208T131922Z
UID:9468-1691265600-1691283600@ehbo-zundert.nl
SUMMARY:KPJ Rijsbergen - Muziekavond
DESCRIPTION:
URL:https://ehbo-zundert.nl/evenement/kpj-rijsbergen-muziekavond/
LOCATION:Tiggeltsebergstraat\, Rijsbergen
ORGANIZER;CN="Lieke Bastiaansen":MAILTO:liekebastiaansen@gmail.com
END:VEVENT
BEGIN:VEVENT
DTSTART;TZID=Europe/Amsterdam:20230804T200000
DTEND;TZID=Europe/Amsterdam:20230805T010000
DTSTAMP:20260422T200948
CREATED:20230208T131748Z
LAST-MODIFIED:20230208T131748Z
UID:9466-1691179200-1691197200@ehbo-zundert.nl
SUMMARY:KPJ Rijsbergen - Feestavond
DESCRIPTION:
URL:https://ehbo-zundert.nl/evenement/kpj-rijsbergen-feestavond/
LOCATION:Tiggeltsebergstraat\, Rijsbergen
ORGANIZER;CN="Lieke Bastiaansen":MAILTO:liekebastiaansen@gmail.com
END:VEVENT
BEGIN:VEVENT
DTSTART;TZID=Europe/Amsterdam:20230730T130000
DTEND;TZID=Europe/Amsterdam:20230730T180000
DTSTAMP:20260422T200948
CREATED:20230516T133001Z
LAST-MODIFIED:20230516T133001Z
UID:9968-1690722000-1690740000@ehbo-zundert.nl
SUMMARY:Ostaayse Kermis - Zondag 30 juli
DESCRIPTION:
URL:https://ehbo-zundert.nl/evenement/ostaayse-kermis-zondag-30-juli/
LOCATION:Blokenstraat Achtmaal
ORGANIZER;CN="Stefan Smits":MAILTO:vwostaayenseboys@hotmail.nl
END:VEVENT
BEGIN:VEVENT
DTSTART;TZID=Europe/Amsterdam:20230729T210000
DTEND;TZID=Europe/Amsterdam:20230730T010000
DTSTAMP:20260422T200948
CREATED:20230516T132742Z
LAST-MODIFIED:20230601T094815Z
UID:9966-1690664400-1690678800@ehbo-zundert.nl
SUMMARY:Ostaayse Kermis - zaterdag 29 juli
DESCRIPTION:
URL:https://ehbo-zundert.nl/evenement/ostaayse-kermis-zaterdag-29-juli/
LOCATION:Blokenstraat Achtmaal
ORGANIZER;CN="Stefan Smits":MAILTO:vwostaayenseboys@hotmail.nl
END:VEVENT
BEGIN:VEVENT
DTSTART;TZID=Europe/Amsterdam:20230728T210000
DTEND;TZID=Europe/Amsterdam:20230729T010000
DTSTAMP:20260422T200948
CREATED:20230516T132548Z
LAST-MODIFIED:20230516T132548Z
UID:9964-1690578000-1690592400@ehbo-zundert.nl
SUMMARY:Ostaayse Kermis - vrijdag 28 juli
DESCRIPTION:
URL:https://ehbo-zundert.nl/evenement/ostaayse-kermis-vrijdag-28-juli/
LOCATION:Blokenstraat Achtmaal
ORGANIZER;CN="Stefan Smits":MAILTO:vwostaayenseboys@hotmail.nl
END:VEVENT
BEGIN:VEVENT
DTSTART;TZID=Europe/Amsterdam:20230728T124500
DTEND;TZID=Europe/Amsterdam:20230728T161500
DTSTAMP:20260422T200948
CREATED:20230522T070706Z
LAST-MODIFIED:20230522T070706Z
UID:10004-1690548300-1690560900@ehbo-zundert.nl
SUMMARY:Stokperdje Vakantieweek - vrijdag 28 juli (2)
DESCRIPTION:
URL:https://ehbo-zundert.nl/evenement/stokperdje-vakantieweek-vrijdag-28-juli-2/
LOCATION:’t Stokperdje\, De Brug 15\, Zundert
END:VEVENT
END:VCALENDAR