BEGIN:VCALENDAR
VERSION:2.0
PRODID:-//EHBO Zundert - ECPv6.15.20//NONSGML v1.0//EN
CALSCALE:GREGORIAN
METHOD:PUBLISH
X-ORIGINAL-URL:https://ehbo-zundert.nl
X-WR-CALDESC:Evenementen voor EHBO Zundert
REFRESH-INTERVAL;VALUE=DURATION:PT1H
X-Robots-Tag:noindex
X-PUBLISHED-TTL:PT1H
BEGIN:VTIMEZONE
TZID:Europe/Amsterdam
BEGIN:DAYLIGHT
TZOFFSETFROM:+0100
TZOFFSETTO:+0200
TZNAME:CEST
DTSTART:20220327T010000
END:DAYLIGHT
BEGIN:STANDARD
TZOFFSETFROM:+0200
TZOFFSETTO:+0100
TZNAME:CET
DTSTART:20221030T010000
END:STANDARD
BEGIN:DAYLIGHT
TZOFFSETFROM:+0100
TZOFFSETTO:+0200
TZNAME:CEST
DTSTART:20230326T010000
END:DAYLIGHT
BEGIN:STANDARD
TZOFFSETFROM:+0200
TZOFFSETTO:+0100
TZNAME:CET
DTSTART:20231029T010000
END:STANDARD
BEGIN:DAYLIGHT
TZOFFSETFROM:+0100
TZOFFSETTO:+0200
TZNAME:CEST
DTSTART:20240331T010000
END:DAYLIGHT
BEGIN:STANDARD
TZOFFSETFROM:+0200
TZOFFSETTO:+0100
TZNAME:CET
DTSTART:20241027T010000
END:STANDARD
END:VTIMEZONE
BEGIN:VEVENT
DTSTART;TZID=Europe/Amsterdam:20230625T120000
DTEND;TZID=Europe/Amsterdam:20230625T160000
DTSTAMP:20260422T211758
CREATED:20230509T100327Z
LAST-MODIFIED:20230509T100327Z
UID:9941-1687694400-1687708800@ehbo-zundert.nl
SUMMARY:Stichting Wielerdorp Rijsbergen - zondag 25 juni (deel 2)
DESCRIPTION:Fietsroutes met verschillende afstanden
URL:https://ehbo-zundert.nl/evenement/stichting-wielerdorp-rijsbergen-zondag-25-juni-deel-2/
LOCATION:Sportpark De Laguiten\, Rijsbergen
END:VEVENT
BEGIN:VEVENT
DTSTART;TZID=Europe/Amsterdam:20230625T100000
DTEND;TZID=Europe/Amsterdam:20230625T143000
DTSTAMP:20260422T211758
CREATED:20230212T140042Z
LAST-MODIFIED:20230212T140042Z
UID:9495-1687687200-1687703400@ehbo-zundert.nl
SUMMARY:Corso Zonder Grenzen (deel 1 )
DESCRIPTION:Zeskamp
URL:https://ehbo-zundert.nl/evenement/corso-zonder-grenzen-deel-1/
LOCATION:Corsohûske\, Past. van Vessemstraat 48\, Zundert
END:VEVENT
BEGIN:VEVENT
DTSTART;TZID=Europe/Amsterdam:20230625T080000
DTEND;TZID=Europe/Amsterdam:20230625T120000
DTSTAMP:20260422T211758
CREATED:20230509T094924Z
LAST-MODIFIED:20230509T094924Z
UID:9939-1687680000-1687694400@ehbo-zundert.nl
SUMMARY:Stichting Wielerdorp Rijsbergen - 25 juni 2023 (deel1)
DESCRIPTION:fietstocht met verschillende afstanden
URL:https://ehbo-zundert.nl/evenement/stichting-wielerdorp-rijsbergen-25-juni-2023-deel1/
LOCATION:Sportpark De Laguiten\, Rijsbergen
END:VEVENT
BEGIN:VEVENT
DTSTART;TZID=Europe/Amsterdam:20230624T133000
DTEND;TZID=Europe/Amsterdam:20230624T170000
DTSTAMP:20260422T211758
CREATED:20230212T143357Z
LAST-MODIFIED:20230212T143357Z
UID:9510-1687613400-1687626000@ehbo-zundert.nl
SUMMARY:ZHC Hockeytoernooi - Charles met de bolle kant (zaterdag 24 juni - deel 2)
DESCRIPTION:
URL:https://ehbo-zundert.nl/evenement/zhc-hockeytoernooi-charles-met-de-bolle-kant-zaterdag-24-juni-deel-2/
LOCATION:Sportparkt de Wildert\, Wildertsedijk\, Zundert\, Nederland
END:VEVENT
BEGIN:VEVENT
DTSTART;TZID=Europe/Amsterdam:20230624T100000
DTEND;TZID=Europe/Amsterdam:20230624T133000
DTSTAMP:20260422T211758
CREATED:20230212T143217Z
LAST-MODIFIED:20230212T143217Z
UID:9508-1687600800-1687613400@ehbo-zundert.nl
SUMMARY:ZHC - Hockey toernooi Charles met de bolle kant - zaterdag 24 juni (deel 1)
DESCRIPTION:
URL:https://ehbo-zundert.nl/evenement/zhc-hockey-toernooi-charles-met-de-bolle-kant-zaterdag-24-juni-deel-1/
LOCATION:Sportparkt de Wildert\, Wildertsedijk\, Zundert\, Nederland
END:VEVENT
BEGIN:VEVENT
DTSTART;TZID=Europe/Amsterdam:20230618T113000
DTEND;TZID=Europe/Amsterdam:20230618T170000
DTSTAMP:20260422T211758
CREATED:20230405T121157Z
LAST-MODIFIED:20230405T122000Z
UID:9647-1687087800-1687107600@ehbo-zundert.nl
SUMMARY:St. Bavoloop - Rijsbergen
DESCRIPTION:
URL:https://ehbo-zundert.nl/evenement/st-bavoloop-rijsbergen-2/
LOCATION:Lindekesplein
END:VEVENT
BEGIN:VEVENT
DTSTART;TZID=Europe/Amsterdam:20230617T113000
DTEND;TZID=Europe/Amsterdam:20230617T143000
DTSTAMP:20260422T211758
CREATED:20230207T145948Z
LAST-MODIFIED:20230207T145948Z
UID:9433-1687001400-1687012200@ehbo-zundert.nl
SUMMARY:Kennedymars (deel 5)
DESCRIPTION:
URL:https://ehbo-zundert.nl/evenement/kennedymars-deel-5/
LOCATION:Koutershof\, Koutershof\, Rijsbergen\, 4891 CV
END:VEVENT
BEGIN:VEVENT
DTSTART;TZID=Europe/Amsterdam:20230617T073000
DTEND;TZID=Europe/Amsterdam:20230617T113000
DTSTAMP:20260422T211758
CREATED:20230207T145833Z
LAST-MODIFIED:20230207T145833Z
UID:9431-1686987000-1687001400@ehbo-zundert.nl
SUMMARY:Kennedymars (deel 4 )
DESCRIPTION:
URL:https://ehbo-zundert.nl/evenement/kennedymars-deel-4/
END:VEVENT
BEGIN:VEVENT
DTSTART;TZID=Europe/Amsterdam:20230617T033000
DTEND;TZID=Europe/Amsterdam:20230617T073000
DTSTAMP:20260422T211758
CREATED:20230207T145636Z
LAST-MODIFIED:20230207T145636Z
UID:9429-1686972600-1686987000@ehbo-zundert.nl
SUMMARY:Kennedymars (deel 3)
DESCRIPTION:
URL:https://ehbo-zundert.nl/evenement/kennedymars-deel-3/
LOCATION:Koutershof\, Koutershof\, Rijsbergen\, 4891 CV
END:VEVENT
BEGIN:VEVENT
DTSTART;TZID=Europe/Amsterdam:20230616T233000
DTEND;TZID=Europe/Amsterdam:20230617T033000
DTSTAMP:20260422T211758
CREATED:20230207T145457Z
LAST-MODIFIED:20230207T145457Z
UID:9427-1686958200-1686972600@ehbo-zundert.nl
SUMMARY:Kennedymars (deel 2)
DESCRIPTION:
URL:https://ehbo-zundert.nl/evenement/kennedymars-deel-2/
LOCATION:Koutershof\, Koutershof\, Rijsbergen\, 4891 CV
END:VEVENT
BEGIN:VEVENT
DTSTART;TZID=Europe/Amsterdam:20230616T200000
DTEND;TZID=Europe/Amsterdam:20230616T233000
DTSTAMP:20260422T211758
CREATED:20230207T145343Z
LAST-MODIFIED:20230207T145343Z
UID:9425-1686945600-1686958200@ehbo-zundert.nl
SUMMARY:Kennedymars (deel 1)
DESCRIPTION:
URL:https://ehbo-zundert.nl/evenement/kennedymars-deel-1/
LOCATION:Koutershof\, Koutershof\, Rijsbergen\, 4891 CV
END:VEVENT
BEGIN:VEVENT
DTSTART;TZID=Europe/Amsterdam:20230611T160000
DTEND;TZID=Europe/Amsterdam:20230611T200000
DTSTAMP:20260422T211758
CREATED:20230302T132007Z
LAST-MODIFIED:20230606T085049Z
UID:9574-1686499200-1686513600@ehbo-zundert.nl
SUMMARY:OZC Aardbeienfeesten - Zondag 11 juni (deel3)
DESCRIPTION:Braderie \ncaravan op de hoek van de Eikenlaan – Molenstraat \n 
URL:https://ehbo-zundert.nl/evenement/ozc-aardbeienfeesten-zondag-11-juni-deel3/
LOCATION:Hoek Eikenlaan-Molenstraat\, Molenstraat\, Zundert\, Nederland
ORGANIZER;CN="Ad de Bruijn":MAILTO:info@aardbeienfeesten.nl
END:VEVENT
BEGIN:VEVENT
DTSTART;TZID=Europe/Amsterdam:20230611T123000
DTEND;TZID=Europe/Amsterdam:20230611T160000
DTSTAMP:20260422T211758
CREATED:20230302T131722Z
LAST-MODIFIED:20230606T085215Z
UID:9572-1686486600-1686499200@ehbo-zundert.nl
SUMMARY:OZC Aardbeienfeesten - Zondag 11 juni (deel 2)
DESCRIPTION:Braderie \nCaravan op de hoek van de Eikenlaan – Molenstraat
URL:https://ehbo-zundert.nl/evenement/ozc-aardbeienfeesten-zondag-11-juni-deel-2/
LOCATION:Hoek Eikenlaan-Molenstraat\, Molenstraat\, Zundert\, Nederland
ORGANIZER;CN="Ad de Bruijn":MAILTO:info@aardbeienfeesten.nl
END:VEVENT
BEGIN:VEVENT
DTSTART;TZID=Europe/Amsterdam:20230611T090000
DTEND;TZID=Europe/Amsterdam:20230611T123000
DTSTAMP:20260422T211758
CREATED:20230302T131546Z
LAST-MODIFIED:20230302T131559Z
UID:9569-1686474000-1686486600@ehbo-zundert.nl
SUMMARY:OZC Aardbeienfeesten - Zondag 11 juni (deel1)
DESCRIPTION:Braderie \nCaravan op de hoek van de Eikenlaan – Molenstraat
URL:https://ehbo-zundert.nl/evenement/ozc-aardbeienfeesten-zondag-11-juni/
LOCATION:Hoek Eikenlaan-Molenstraat\, Molenstraat\, Zundert\, Nederland
ORGANIZER;CN="Ad de Bruijn":MAILTO:info@aardbeienfeesten.nl
END:VEVENT
BEGIN:VEVENT
DTSTART;TZID=Europe/Amsterdam:20230610T160000
DTEND;TZID=Europe/Amsterdam:20230610T200000
DTSTAMP:20260422T211758
CREATED:20230302T131405Z
LAST-MODIFIED:20230606T084941Z
UID:9567-1686412800-1686427200@ehbo-zundert.nl
SUMMARY:OZC - Aardbeienfeesten - Zaterdag 10 juni (deel 3)
DESCRIPTION:
URL:https://ehbo-zundert.nl/evenement/ozc-aardbeienfeesten-zaterdag-10-juni-deel-3/
LOCATION:Hoek Eikenlaan-Molenstraat\, Molenstraat\, Zundert\, Nederland
ORGANIZER;CN="Ad de Bruijn":MAILTO:info@aardbeienfeesten.nl
END:VEVENT
BEGIN:VEVENT
DTSTART;TZID=Europe/Amsterdam:20230610T123000
DTEND;TZID=Europe/Amsterdam:20230610T160000
DTSTAMP:20260422T211758
CREATED:20230302T130639Z
LAST-MODIFIED:20230606T085418Z
UID:9562-1686400200-1686412800@ehbo-zundert.nl
SUMMARY:OZC - Aardbeienfeesten - Zaterdag 10 juni (deel 2)
DESCRIPTION:Braderie \nDe caravan graag op de hoek van Eikenlaan-Molenstraat
URL:https://ehbo-zundert.nl/evenement/ozc-aardbeienfeesten-deel-2/
LOCATION:Hoek Eikenlaan-Molenstraat\, Molenstraat\, Zundert\, Nederland
ORGANIZER;CN="Ad de Bruijn":MAILTO:info@aardbeienfeesten.nl
END:VEVENT
BEGIN:VEVENT
DTSTART;TZID=Europe/Amsterdam:20230610T090000
DTEND;TZID=Europe/Amsterdam:20230610T123000
DTSTAMP:20260422T211758
CREATED:20230302T130425Z
LAST-MODIFIED:20230302T131102Z
UID:9560-1686387600-1686400200@ehbo-zundert.nl
SUMMARY:OZC - Aardbeienfeesten - zaterdag 10 juni (deel 1)
DESCRIPTION:Braderie \nDe caravan graag op de hoek van de Eikenlaan-Molenstraat
URL:https://ehbo-zundert.nl/evenement/ozc-aardbeienfeesten/
LOCATION:Hoek Eikenlaan-Molenstraat\, Molenstraat\, Zundert\, Nederland
ORGANIZER;CN="Ad de Bruijn":MAILTO:info@aardbeienfeesten.nl
END:VEVENT
BEGIN:VEVENT
DTSTART;TZID=Europe/Amsterdam:20230609T183000
DTEND;TZID=Europe/Amsterdam:20230609T213000
DTSTAMP:20260422T211758
CREATED:20230302T140949Z
LAST-MODIFIED:20230302T140949Z
UID:9583-1686335400-1686346200@ehbo-zundert.nl
SUMMARY:Avondvierdaagse Rijsbergen (deel 4)
DESCRIPTION:Wandelevenement voer drie verschillende afstanden
URL:https://ehbo-zundert.nl/evenement/avondvierdaagse-rijsbergen-deel-4/
LOCATION:Amarant Leijakkerplein 4\, Leijakkerplein 4\, Rijsbergen\, Nederland
END:VEVENT
BEGIN:VEVENT
DTSTART;TZID=Europe/Amsterdam:20230608T183000
DTEND;TZID=Europe/Amsterdam:20230608T213000
DTSTAMP:20260422T211758
CREATED:20230302T140757Z
LAST-MODIFIED:20230516T133302Z
UID:9581-1686249000-1686259800@ehbo-zundert.nl
SUMMARY:Avondvierdaagse Rijsbergen (deel 3)
DESCRIPTION:
URL:https://ehbo-zundert.nl/evenement/avondvierdaagse-rijsbergen-deel-3/
LOCATION:Amarant Leijakkerplein 4\, Leijakkerplein 4\, Rijsbergen\, Nederland
END:VEVENT
BEGIN:VEVENT
DTSTART;TZID=Europe/Amsterdam:20230608T070000
DTEND;TZID=Europe/Amsterdam:20230608T110000
DTSTAMP:20260422T211758
CREATED:20230608T140103Z
LAST-MODIFIED:20230608T140103Z
UID:10057-1686207600-1686222000@ehbo-zundert.nl
SUMMARY:Bloemencorso Zundert - Dinsdag 5 september (deel 1)
DESCRIPTION:Afbreken van de wagens \nCaravan aanwezig
URL:https://ehbo-zundert.nl/evenement/bloemencorso-zundert-dinsdag-5-september-deel-1/
LOCATION:CLTV Zundert\, Molenstraat 155\, Zundert
END:VEVENT
BEGIN:VEVENT
DTSTART;TZID=Europe/Amsterdam:20230607T183000
DTEND;TZID=Europe/Amsterdam:20230607T213000
DTSTAMP:20260422T211758
CREATED:20230302T140652Z
LAST-MODIFIED:20230302T140652Z
UID:9579-1686162600-1686173400@ehbo-zundert.nl
SUMMARY:Avondvierdaagse Rijsbergen (deel 2)
DESCRIPTION:
URL:https://ehbo-zundert.nl/evenement/avondvierdaagse-rijsbergen-deel-2/
LOCATION:Amarant Leijakkerplein 4\, Leijakkerplein 4\, Rijsbergen\, Nederland
END:VEVENT
BEGIN:VEVENT
DTSTART;TZID=Europe/Amsterdam:20230606T183000
DTEND;TZID=Europe/Amsterdam:20230606T213000
DTSTAMP:20260422T211758
CREATED:20230302T140526Z
LAST-MODIFIED:20230302T140547Z
UID:9576-1686076200-1686087000@ehbo-zundert.nl
SUMMARY:Avondvierdaagse Rijsbergen (deel 1 )
DESCRIPTION:Wandelevenement over drie verschillende afstanden
URL:https://ehbo-zundert.nl/evenement/avondvierdaagse-rijsbergen-5/
LOCATION:Amarant Leijakkerplein 4\, Leijakkerplein 4\, Rijsbergen\, Nederland
END:VEVENT
BEGIN:VEVENT
DTSTART;TZID=Europe/Amsterdam:20230603T163000
DTEND;TZID=Europe/Amsterdam:20230603T203000
DTSTAMP:20260422T211758
CREATED:20230424T125606Z
LAST-MODIFIED:20230424T130100Z
UID:9680-1685809800-1685824200@ehbo-zundert.nl
SUMMARY:Van Goghloop
DESCRIPTION:hardloop evenement\, waarbij ook ehbo op de fiets aanwezig kan zijn; \nCaravan komt op de markt
URL:https://ehbo-zundert.nl/evenement/van-goghloop/
LOCATION:Markt
END:VEVENT
BEGIN:VEVENT
DTSTART;TZID=Europe/Amsterdam:20230528T190000
DTEND;TZID=Europe/Amsterdam:20230529T010000
DTSTAMP:20260422T211758
CREATED:20230302T130023Z
LAST-MODIFIED:20230302T130941Z
UID:9558-1685300400-1685322000@ehbo-zundert.nl
SUMMARY:Buurtschap Achtmaal - DorpsBBQ (deel 2)
DESCRIPTION:
URL:https://ehbo-zundert.nl/evenement/buurtschap-achtmaal-dorpsbbq/
LOCATION:Buurtschap Achtmaal\, Griendweg 1\, Achtmaal
END:VEVENT
BEGIN:VEVENT
DTSTART;TZID=Europe/Amsterdam:20230528T150000
DTEND;TZID=Europe/Amsterdam:20230528T190000
DTSTAMP:20260422T211758
CREATED:20230302T125801Z
LAST-MODIFIED:20230302T125801Z
UID:9555-1685286000-1685300400@ehbo-zundert.nl
SUMMARY:Buurtschap Achtmaal - DorpsBBQ (1)
DESCRIPTION:
URL:https://ehbo-zundert.nl/evenement/buurtschap-achtmaal-dorpsbbq-1/
LOCATION:Buurtschap Achtmaal\, Griendweg 1\, Achtmaal
END:VEVENT
BEGIN:VEVENT
DTSTART;TZID=Europe/Amsterdam:20230518T190000
DTEND;TZID=Europe/Amsterdam:20230519T000000
DTSTAMP:20260422T211758
CREATED:20230118T140936Z
LAST-MODIFIED:20230118T140936Z
UID:9286-1684436400-1684454400@ehbo-zundert.nl
SUMMARY:We love 2 Party (2)
DESCRIPTION:
URL:https://ehbo-zundert.nl/evenement/we-love-2-party-2/
LOCATION:Sportpark De Laguiten\, Rijsbergen
END:VEVENT
BEGIN:VEVENT
DTSTART;TZID=Europe/Amsterdam:20230518T160000
DTEND;TZID=Europe/Amsterdam:20230518T190000
DTSTAMP:20260422T211758
CREATED:20230105T112423Z
LAST-MODIFIED:20230105T112423Z
UID:9201-1684425600-1684436400@ehbo-zundert.nl
SUMMARY:Wielercriterium Wernhout - Donderdag 18 mei 2023 (2)
DESCRIPTION:
URL:https://ehbo-zundert.nl/evenement/wielercriterium-wernhout-donderdag-18-mei-2023-2/
LOCATION:Cafe ‘T
END:VEVENT
BEGIN:VEVENT
DTSTART;TZID=Europe/Amsterdam:20230518T140000
DTEND;TZID=Europe/Amsterdam:20230518T190000
DTSTAMP:20260422T211758
CREATED:20230118T140757Z
LAST-MODIFIED:20230118T140809Z
UID:9283-1684418400-1684436400@ehbo-zundert.nl
SUMMARY:We love 2 party(1)
DESCRIPTION:Muziek evenementen met diverse artiesten en dj’s.
URL:https://ehbo-zundert.nl/evenement/we-love-2-party/
LOCATION:Sportpark De Laguiten\, Rijsbergen
END:VEVENT
BEGIN:VEVENT
DTSTART;TZID=Europe/Amsterdam:20230518T130000
DTEND;TZID=Europe/Amsterdam:20230518T160000
DTSTAMP:20260422T211758
CREATED:20230105T112301Z
LAST-MODIFIED:20230105T112301Z
UID:9199-1684414800-1684425600@ehbo-zundert.nl
SUMMARY:Wielercriterium - Wernhout  Donderdag 18 mei 2023 (1)
DESCRIPTION:
URL:https://ehbo-zundert.nl/evenement/wielercriterium-wernhout-donderdag-18-mei-2023-1/
LOCATION:Cafe ‘T
END:VEVENT
BEGIN:VEVENT
DTSTART;TZID=Europe/Amsterdam:20230514T140000
DTEND;TZID=Europe/Amsterdam:20230514T180000
DTSTAMP:20260422T211758
CREATED:20230118T140301Z
LAST-MODIFIED:20230118T140301Z
UID:9281-1684072800-1684087200@ehbo-zundert.nl
SUMMARY:Oldtimerweekend De Walm - zondag 14 mei (2)
DESCRIPTION:
URL:https://ehbo-zundert.nl/evenement/oldtimerweekend-de-walm-zondag-14-mei-2/
LOCATION:Aardgangstraat 5
END:VEVENT
END:VCALENDAR